Workbook

Sheet List1
B1: Lokalita | D1: Byci | E1: Byci | F1: Byci | G1: Byci | H1: Byci | I1: Byci | J1: Byci | K1: Byci | L1: Byci | M1: Byci | N1: Byci | O1: Byci | P1: Byci | Q1: Byci | R1: Byci | S1: Byci | T1: Byci | U1: Byci | V1: Byci | W1: Byci | AD1: Souteska | AE1: Souteska | AF1: Souteska | AG1: Souteska | AH1: Souteska | AI1: Souteska | AJ1: Souteska | AK1: Souteska | AL1: Souteska | AO1: Pruchodnice | AP1: Pruchodnice | AQ1: Pruchodnice | AR1: Pruchodnice | AS1: Pruchodnice | AT1: Pruchodnice | AU1: Pruchodnice | AV1: Pruchodnice | AW1: Pruchodnice | AX1: Pruchodnice | AY1: Pruchodnice | BA1: Martina portal | BB1: Martina portal | BC1: Martina portal | BD1: Martina portal | BE1: Martina portal | BF1: Martina portal | BG1: Martina portal | BH1: Martina portal | BI1: Martina portal | BJ1: Martina portal | BK1: Martina portal | BL1: Martina portal | BM1: Martina portal | BN1: Martina portal | BO1: Martina portal | BP1: Martina portal | BQ1: Martina portal | BT1: Cerveneho muze | BU1: Cerveneho muze | BV1: Cerveneho muze | BW1: Cerveneho muze | BX1: Cerveneho muze | BY1: Cerveneho muze | BZ1: Cerveneho muze | CA1: Cerveneho muze | CD1: Bišilu | CE1: Bišilu | CF1: Bišilu | CG1: Bišilu | CH1: Bišilu | CI1: Bišilu | CJ1: Bišilu | CK1: Bišilu | CL1: Bišilu | CM1: Bišilu | CN1: Bišilu | CO1: Bišilu | CP1: Bišilu | CQ1: Bišilu | CR1: Bišilu | CS1: Bišilu | CT1: Bišilu | CU1: Bišilu | CV1: Bišilu | CW1: Bišilu | CX1: Bišilu | CY1: Bišilu | DA1: Sp Bacín I | DB1: Sp Bacín I | DC1: Sp Bacín I | DD1: Sp Bacín I | DE1: Sp Bacín I | DF1: Sp Bacín I | DG1: Sp Bacín I | DH1: Sp Bacín I | DI1: Sp Bacín I | DJ1: Sp Bacín I | DK1: Sp Bacín I | DL1: Sp Bacín I | DM1: Sp Bacín I | DN1: Sp Bacín I | DO1: Sp Bacín I | DP1: Sp Bacín I | DQ1: Sp Bacín I | DR1: Sp Bacín I | DS1: Sp Bacín I | DU1: Skalice I | DV1: Skalice I | DW1: Skalice I | DX1: Skalice I | DY1: Skalice I | DZ1: Skalice I | EA1: Skalice I | EB1: Skalice I | EC1: Skalice I | ED1: Skalice I | EG1: Srnčí | EH1: Srnčí | EI1: Srnčí | EJ1: Srnčí | EK1: Srnčí | EL1: Srnčí | EM1: Srnčí | EN1: Srnčí | EO1: Srnčí | EP1: Srnčí | EQ1: Srnčí | ER1: Srnčí | ES1: Srnčí | ET1: Srnčí | EU1: Srnčí | EX1: Týnčany,Mechovka | EY1: Týnčany,Mechovka | EZ1: Týnčany,Mechovka | FA1: Týnčany,Mechovka | FB1: Týnčany,Mechovka | FC1: Týnčany,Mechovka | FD1: Týnčany,Mechovka | FE1: Týnčany,Mechovka | FF1: Týnčany,Mechovka | FG1: Týnčany,Mechovka | FJ1: Sásová | FK1: Sásová | FL1: Sásová | FM1: Sásová | FN1: Sásová | FO1: Sásová | FP1: Sásová | FQ1: Sásová | FT1: Skalka nad Čihovou | FU1: Skalka nad Čihovou | FV1: Skalka nad Čihovou | FW1: Skalka nad Čihovou | FX1: Skalka nad Čihovou | FY1: Skalka nad Čihovou | FZ1: Skalka nad Čihovou | GA1: Skalka nad Čihovou | GB1: Skalka nad Čihovou | GC1: Skalka nad Čihovou | GE1: Holštejnská | GF1: Holštejnská | GG1: Holštejnská | GH1: Holštejnská | GI1: Holštejnská | GJ1: Holštejnská | GK1: Holštejnská | GL1: Holštejnská | GM1: Holštejnská | GN1: Holštejnská | GP1: Pekárna | GQ1: Pekárna | GR1: Pekárna | GS1: Pekárna | GT1: Pekárna | GV1: Za křížem | GW1: Za křížem | GX1: Za křížem | GY1: Za křížem | GZ1: Za křížem | HA1: Za křížem | HB1: Za křížem | HC1: Za křížem | HD1: Za křížem | HE1: Za křížem | HG1: Slaninová | HH1: Slaninová | HI1: Slaninová | HJ1: Slaninová | HK1: Slaninová | HL1: Slaninová | HM1: Slaninová | HN1: Slaninová | HO1: Slaninová | HP1: Slaninová | HR1: Peskö | HS1: Peskö | HT1: Peskö | HU1: Peskö | HV1: Peskö | HW1: Peskö | HX1: Peskö | HY1: Peskö | HZ1: Peskö | IA1: Peskö | IB1: Peskö | IC1: Peskö | ID1: Peskö | IE1: Peskö | IF1: Peskö | IG1: Peskö | IH1: Peskö | II1: Peskö | IK1: Barová | IL1: Barová | IM1: Barová | IN1: Barová | IO1: Barová | IP1: Barová | IQ1: Barová | IR1: Barová | IS1: Barová | IT1: Barová | IU1: Barová | IV1: Barová | IW1: Barová | IX1: Barová | IY1: Barová | IZ1: Barová | JA1: Barová | JB1: Barová | JC1: Barová | JD1: Barová | JE1: Barová | JF1: Barová | JG1: Barová | JI1: Mara medvedia jaskyňa | JJ1: Mara medvedia jaskyňa | JK1: Mara medvedia jaskyňa | JL1: Mara medvedia jaskyňa | JM1: Mara medvedia jaskyňa | JN1: Mara medvedia jaskyňa | JO1: Mara medvedia jaskyňa | JP1: Mara medvedia jaskyňa | JQ1: Mara medvedia jaskyňa | JR1: Mara medvedia jaskyňa | JU1: Bašta | JV1: Bašta | JW1: Bašta | JX1: Bašta | JY1: Bašta | JZ1: Bašta | KA1: Bašta | KB1: Bašta | KC1: Bašta | KD1: Bašta | KF1: Ondrej | KG1: Ondrej | KH1: Ondrej | KI1: Ondrej | KJ1: Ondrej | KK1: Ondrej | KL1: Ondrej | KM1: Ondrej | KN1: Ondrej | KO1: Ondrej | KP1: Ondrej | KQ1: Ondrej | KR1: Ondrej | KS1: Ondrej | KT1: Ondrej C1 | KU1: Ondrej C1 | KV1: Ondrej C1 | KW1: Ondrej C1 | KX1: Ondrej C1 | KY1: Ondrej C1 | KZ1: Ondrej C1 | LA1: Ondrej C1 | LD1: Ružín | LE1: Ružín | LF1: Ružín | LG1: Ružín | LH1: Ružín | LI1: Ružín | LJ1: Ružín | LK1: Ružín | LL1: Ružín | LM1: Ružín | LN1: Ružín | LP1: Hámorská | LQ1: Hámorská | LR1: Hámorská | LS1: Hámorská | LT1: Hámorská | LU1: Hámorská | LV1: Hámorská | LW1: Hámorská | LX1: Hámorská | LY1: Hámorská | LZ1: Hámorská | MA1: Hámorská | MB1: Hámorská | MC1: Hámorská | ME1: Soutěska II | MF1: Soutěska II | MG1: Soutěska II | MH1: Soutěska II | MI1: Soutěska II | MJ1: Soutěska II | MK1: Soutěska II | ML1: Soutěska | MN1: Martinka I | MO1: Martinka I | MP1: Martinka I | MQ1: Martinka I | MR1: Martinka I | MS1: Martinka I | MT1: Martinka I | MU1: Martinka I | MV1: Martinka I | MW1: Martinka I | MY1: Martinka-rozsedlina | MZ1: Martinka-rozsedlina | NA1: Martinka-rozsedlina | NB1: Martinka-rozsedlina | NC1: Martinka-rozsedlina | ND1: Martinka-rozsedlina | NE1: Martinka-rozsedlina | NF1: Martinka-rozsedlina | NG1: Martinka-rozsedlina | NH1: Martinka-rozsedlina | NI1: Martinka-rozsedlina | NK1: Axamitova brána | NL1: Axamitova brána | NM1: Axamitova brána | NN1: Axamitova brána | NO1: Axamitova brána | NP1: Axamitova brána | NQ1: Axamitova brána | NR1: Axamitova brána | NS1: Axamitova brána | NU1: jeskyně 1504 u Srbska | NV1: jeskyně 1504 u Srbska | NW1: jeskyně 1504 u Srbska | NX1: jeskyně 1504 u Srbska | NY1: jeskyně 1504 u Srbska | NZ1: jeskyně 1504 u Srbska | OB1: Dolský mlýn A | OC1: Dolský mlýn A | OD1: Dolský mlýn A | OE1: Dolský mlýn A | OF1: Dolský mlýn A | OG1: Dolský mlýn A | OH1: Dolský mlýn A | OI1: Dolský mlýn A | OJ1: Dolský mlýn B | OK1: Dolský mlýn B | OL1: Dolský mlýn B | OM1: Dolský mlýn B | ON1: Dolský mlýn B | OO1: Dolský mlýn B | OP1: Dolský mlýn B | OQ1: Dolský mlýn B | OS1: Pod Černou Louží | OT1: Pod Černou Louží | OU1: Pod Černou Louží | OV1: Pod Černou Louží | OW1: Pod Černou Louží | OX1: Pod Černou Louží | OY1: Pod Černou Louží | OZ1: Pod Černou Louží | PA1: Pod černou louží | PC1: Šídelník A | PD1: Šídelník A | PE1: Šídelník A | PF1: Šídelník A | PG1: Šídelník B | PH1: Šídelník B | PI1: Šídelník B | PJ1: Šídelník B | PK1: Šídelník B | PL1: Šídelník A,B | PN1: Pod zubem | PP1: Šídelník | PT1: Dolský mlýn A | PU1: Dolský mlýn A | PV1: Dolský mlýn A | PX1: Dolský mlýn | PZ1: Uhelná rokle II | QA1: Uhelná rokle II | QB1: Uhelná rokle II | QC1: Uhelná rokle II | QD1: Uhelná rokle | QF1: Bezděz - západ | QG1: Bezděz - západ | QH1: Bezděz - západ | QI1: Bezděz - západ | QJ1: Bezděz - západ | QK1: Bezděz - západ | QL1: Bezděz - západ | QM1: Bezděz - západ | QN1: Bezděz - západ | QO1: Bezděz - západ | QP1: Bezděz - západ | QQ1: Bezděz - západ | QR1: Bezděz-západ | QT1: Dolský mlýn A | QU1: Dolský mlýn A | QV1: Dolský mlýn A | QW1: Dolský mlýn A | QX1: Dolský mlýn A | QY1: Dolský mlýn A | QZ1: Dolský mlýn A | RB1: Dolský mlýn B | RC1: Dolský mlýn B | RD1: Dolský mlýn B | RE1: Dolský mlýn B | RF1: Dolský mlýn B | RG1: Dolský mlýn B | RH1: Dloský mlýn B | RJ1: Muráň 3 | RK1: Muráň 3 | RL1: Muráň 3 | RM1: Muráň 3 | RN1: Muráň 3 | RO1: Nový III | RP1: Nový III | RQ1: Muráň 3 Nový III | RS1: PP1 PP2 Dzeravá | RT1: PP1 PP2 Dzeravá | RU1: PP1 PP2 Dzeravá | RV1: PP1 PP2 Dzeravá | RW1: PP1 PP2 Dzeravá | RX1: PP1 PP2 Dzeravá | RY1: PP1 PP2 Dzeravá | RZ1: PP1 PP2 Dzeravá | SA1: PP1 PP2 Dzeravá | SB1: PP1 PP2 Dzeravá | SC1: PP1 PP2 Dzeravá | SE1: Zazděná | SF1: Zazděná | SG1: Zazděná | SH1: Zazděná | SI1: Zazděná | SJ1: Zazděná | SK1: Zazděná | SL1: Zazděná | SM1: Zazděná | SN1: Zazděná | SO1: Zazděná | SP1: Zazděná | SQ1: Zazděná | SR1: Zazděná | SS1: Zazděná | SU1: Kobyla - západ | SV1: Kobyla - západ | SW1: Kobyla - západ | SX1: Kobyla - západ | SY1: Kobyla - západ | SZ1: Kobyla - západ | TA1: Kobyla - západ | TB1: Kobyla - západ | TC1: Kobyla západ | TE1: Martina | TF1: Martina | TG1: Martina | TH1: Martina | TI1: Martina | TJ1: Martina | TK1: Martina | TL1: Martina | TM1: Martina | TN1: Martina | TO1: Martina | TP1: Martina | TQ1: Martina | TR1: Martina | TS1: Martina | TT1: Martina | TU1: Martina | TW1: Maštalná | TX1: Maštalná | TY1: Maštalná | TZ1: Maštalná | UA1: Maštalná | UB1: Maštalná | UC1: Maštalná | UD1: Maštalná | UE1: Maštalná | UF1: Maštalná | UG1: Maštalná | UH1: Maštalná | UI1: Maštalná | UJ1: Maštalná | UK1: Maštalná | UL1: Maštalná | UM1: Maštalná | UN1: Maštalná | UP1: Němcová I | UQ1: Němcová I | UR1: Němcová I | US1: Němcová I | UT1: Němcová I | UU1: Němcová I | UV1: Němcová I | UW1: Němcová I | UX1: Němcová I | UZ1: Velká Kobylanka | VA1: Velká Kobylanka | VB1: Velká Kobylanka | VC1: Velká Kobylanka | VD1: Velká Kobylanka | VE1: Velká Kobylanka | VF1: Velká Kobylanka | VG1: Velká Kobylanka | VH1: Velká Kobylanka | VI1: Velká Kobylanka | VJ1: Velká Kobylanka | VK1: Velká Kobylanka | VL1: Velká Kobylanka | VN1: Nízká Lešnice | VO1: Nízká Lešnice | VP1: Nízká Lešnice | VQ1: Nízká Lešnice | VR1: Nízká Lešnice | VS1: Nízká Lešnice | VT1: Nízká Lešnice | VU1: Nízká Lešnice | VW1: SSJ | VY1: Uppony | WA1: Tarkö 3 | WB1: Tarkö 5-7 | WC1: Tarkö 12-13 | WE1: Turold W1 | WG1: Dobrkovice | WI1: Bojnice 1 | WJ1: Bojnice 1/1 | WL1: Chlum 7 | WN1: Tučín (total) | WP1: Heroltice | WR1: Zkam.zámek jeskyně | WT1: Holštejnská | WV1: Rytířská | WX1: Nad Kačákem | WZ1: Gánovce (total) | XB1: Bulhary PK II | XD1: Nový, layer 3 | XE1: Nový,layer 4 | XG1: Horka-Ondrej | XI1: Dubinné u Bardejova | XK1: Přední rokle | XL1: Přední rokle | XM1: Přední rokle | XN1: Přední rokle | XO1: Přední rokle | XP1: Přední rokle | XQ1: Přední rokle | XR1: Přední rokle | XT1: Malý lesík | XU1: Malý lesík | XV1: Malý lesík | XW1: Malý lesík | XX1: Malý lesík | XY1: Malý lesík | XZ1: Malý lesík | YA1: Malý lesík | YB1: Malý lesík | YC1: Malý lesík | YD1: Capuš | YE1: Capuš | YF1: Capuš | YG1: Capuš | YH1: Capuš | YI1: Capuš | YJ1: Capuš | YK1: Capuš | YM1: Koněprusy hájovna | YO1: Klaper-Loucký pramen | YP1: Klaper-Loucký pramen | YQ1: Klaper-Loucký pramen | YR1: Klaper-Loucký pramen | YS1: Klaper-Loucký pramen | YT1: Klaper-Loucký pramen | YU1: Klaper-Loucký pramen | YV1: Klaper-Loucký pramen | YW1: Butterberg 1 | YX1: Stará skála,Lhotka u Dubé | YZ1: Železná | ZA1: Železná | ZB1: Železná | ZC1: Železná | ZD1: Železná | ZE1: Železná | ZF1: Železná | ZG1: Železná | ZH1: Červená skala I | ZI1: Červená skala I | ZJ1: Červená skala I | ZK1: Červená skala I | ZL1: Červená skala I | ZM1: Červená skala I | ZN1: Červená skala I | ZO1: Bystrá | ZP1: Jazvečie | ZQ1: Jazvečie | ZR1: Jazvečie | ZS1: Jazvečie | ZT1: Jazvečie | ZU1: Jazvečie | ZV1: Jazvečie | ZW1: Jazvečie | ZX1: Jazvečie | ZY1: Červená skala II | ZZ1: Červená skala II | AAA1: Červená skala II | AAB1: Červená skala II | AAC1: Červená skala II | AAD1: Červená skala II | AAE1: Martinček/Mních | AAG1: Prokop - koupaliště | AAH1: Prokop - koupaliště | AAI1: Prokop - koupaliště | AAJ1: Prokop - koupaliště | AAL1: Prokop - Hradiště | AAM1: Prokop - Hradiště | AAN1: Prokop - Hradiště | AAP1: Kvaplová | AAQ1: Kvaplová | AAR1: Kvaplová | AAS1: Kvaplová | AAT1: Ochozská | AAU1: Ochozská | AAV1: Ochozská | AAW1: Ochozská | AAX1: Ochozská | AAY1: Ochozská | AAZ1: Ochozská | ABA1: Ochozská | ABB1: Ochozská | ABD1: Sum | ABH1: Valečov 1 2016 | ABI1: Valečov 1 2016 | ABJ1: Valečov 1 2016 | ABK1: Valečov 1 2016 | ABL1: Valečov 1 2016 | ABM1: Valečov 1 2016 | ABN1: Valečov 1 2016 | ABO1: Valečov 1 2016 | ABP1: Valečov 1 2016 | ABQ1: Valečov 1 2016 | ABR1: Valečov 1 2016 | ABS1: Valečov 1 2016 | ABT1: Valečov 1 2016 | ABU1: Valečov 1 2016 | ABV1: Valečov 1 2016 | ABW1: Valečov 1 2016 | ABX1: Valečov 1 2016 | ABY1: Valečov 1 2016 | ABZ1: Valečov 1 2016 | ACA1: Valečov 1 2016 | ACB1: Valečov 1 2016 | ACC1: Valečov 1 2016 | ACD1: Valečov 1 2016 | ACE1: Valečov 1 2016 | ACF1: Valečov 1 2016 | ACG1: Valečov 1 2016 | ACH1: Valečov 1 2016 | ACI1: Valečov 1 2016 | ACJ1: Valečov 1 2016 | ACK1: Valečov 1 2016 | ACL1: Valečov 1 2016 | ACM1: Valečov 1 2016 | ACR1: Velky Mamutak | ACS1: Velky Mamutak | ACT1: Velky Mamutak | ACU1: Velky Mamutak | ACV1: Velky Mamutak | ACW1: Velky Mamutak | ACX1: Velky Mamutak | ACY1: Velky Mamutak | ACZ1: Velky Mamutak | ADA1: Velky Mamutak | ADB1: Velky Mamutak | ADC1: Velky Mamutak | ADD1: Velky Mamutak | ADE1: Velky Mamutak | ADF1: Velky Mamutak | ADG1: Velky Mamutak | ADH1: Velky Mamutak | ADI1: Velky Mamutak | ADJ1: Velky Mamutak | ADK1: Velky Mamutak | ADL1: Velky Mamutak | ADM1: Velky Mamutak | ADN1: Velky Mamutak | ADO1: Velky Mamutak | ADP1: Velky Mamutak | ADQ1: Velky Mamutak | ADR1: Velky Mamutak | ADS1: Velky Mamutak | ADT1: Velky Mamutak | ADU1: Velky Mamutak | ADV1: Velky Mamutak | ADW1: Velky Mamutak | ADX1: Velky Mamutak | ADY1: Velky Mamutak | ADZ1: Velky Mamutak | AEA1: Velky Mamutak | AEB1: Velky Mamutak | AEC1: Velky Mamutak | AED1: Velky Mamutak | AEE1: Velky Mamutak | AEF1: Velky Mamutak | AEG1: Velky Mamutak | AEH1: Velky Mamutak | AEI1: Velky Mamutak | AEJ1: Velky Mamutak | AEK1: Velky Mamutak | AEL1: Velky Mamutak | AEM1: Velky Mamutak | AEN1: Velky Mamutak | AEO1: Velky Mamutak | AEP1: Velky Mamutak | AET1: Sovi | AEU1: Sovi | AEV1: Sovi | AEW1: Sovi | AEX1: Sovi | AEY1: Sovi | AEZ1: Sovi | AFA1: Sovi | AFB1: Sovi | AFC1: Sovi | AFD1: Sovi | AFE1: Sovi | AFF1: Sovi | AFG1: Sovi | AFH1: Sovi | AFI1: Sovi | AFJ1: Sovi | AFK1: Sovi | AFL1: Sovi | AFM1: Sovi
B2: Vrstva | D2: 9sum | E2: 8cSUM | F2: 8bSUM | G2: BaSUM | H2: 7bcSUM | I2: 7aSUM | J2: 6bcSUM | K2: 6aSUM | L2: 5bSUM | M2: 5aSUM | N2: 4bSUM | O2: 4aSUM | P2: 3cSUM | Q2: 3bSUM | R2: 3aSUM | S2: 2bSUM | T2: 2aSUM | U2: 1 SUM | V2: 0b SUM | W2: 0a SUM | X2: popel | AD2: 7 | AE2: 6 | AF2: 5 | AG2: 4 | AH2: 3 | AI2: 2 | AJ2: 1 | AL2: TOTAL | AO2: 9 | AP2: 8 | AQ2: 7 | AR2: 6 | AS2: 5 | AT2: 4 | AU2: 3 | AV2: 2 | AW2: 1 | AY2: TOTAL | BA2: I | BB2: H | BC2: G | BD2: F | BE2: E | BF2: D | BG2: 10 | BH2: 9 | BI2: 8 | BJ2: 7 | BK2: 6 | BL2: 5 | BM2: 4 | BN2: 3 | BO2: 2 | BP2: 1 | BQ2: TOTAL | BT2: 2 | BU2: 3a | BV2: 3b | BW2: 4a | BX2: 4b | BY2: 5 | CA2: TOTAL | CD2: 8 | CE2: 7a | CF2: 7a | CG2: 7 | CH2: 7 | CI2: 6 | CJ2: 5 | CK2: 4b | CL2: 4a | CM2: 4 | CN2: 3c | CO2: 3b | CP2: 3a | CQ2: 2c | CR2: 2b | CS2: 2a | CT2: 1b | CU2: 1a | CV2: 0b | CW2: 0 | CY2: TOTAL | DA2: A | DB2: B | DC2: C | DD2: D | DE2: E | DF2: F | DG2: G | DH2: H | DI2: I | DJ2: J | DK2: K | DL2: L | DM2: M | DN2: N | DO2: O | DP2: P | DQ2: Q | DS2: TOTAL | DU2: 7 | DV2: 6b | DW2: 6 | DX2: 5 | DY2: 4 | DZ2: 3b | EA2: 3a | EB2: 2b | EC2: 1 | ED2: TOTAL | EG2: 10 | EH2: 9 | EI2: 8 | EJ2: 7 | EK2: 6b | EL2: 6a | EM2: 5 | EN2: 4 | EO2: 3 | EP2: 3K | EQ2: 3Kb | ER2: 2 | ES2: 1 | EU2: TOTAL | EX2: 8 | EY2: 7 | EZ2: 6 | FA2: 5 | FB2: 4 | FC2: 3 | FD2: 2 | FE2: 1 | FG2: TOTAL | FJ2: 6 | FK2: 5 | FL2: 4 | FM2: 3 | FN2: 2 | FO2: 1 | FQ2: TOTAL | FT2: 9 | FU2: 8 | FV2: 7 | FW2: 6 | FX2: 5 | FY2: 4 | FZ2: 3 | GA2: 2 | GB2: 1 | GC2: TOTAL | GE2: 8 | GF2: 7 | GG2: 6 | GH2: 5 | GI2: 4 | GJ2: 3 | GK2: 2 | GL2: 1 | GM2: INT | GN2: TOTAL | GP2: 5 | GQ2: 6 | GR2: 7 | GS2: 8 | GT2: TOTAL | GV2: 9 | GW2: 8 | GX2: 7 | GY2: 6 | GZ2: 5 | HA2: 4 | HB2: 3 | HC2: 2 | HD2: 1 | HE2: TOTAL | HG2: C6 | HH2: C5 | HI2: C4 | HJ2: 6 | HK2: 5 | HL2: 4 | HM2: 3 | HN2: 2 | HO2: 1 | HP2: TOTAL | HR2: 13 | HS2: 12b | HT2: 12a | HU2: 11 | HV2: 10 | HW2: 9b | HX2: 9a | HY2: 8 | HZ2: 7b | IA2: 7a | IB2: 6 | IC2: 5 | ID2: 4b | IE2: 4a | IF2: 3 | IG2: 2 | IH2: 1 | II2: TOTAL | IK2: Section A | IL2: Section A | IM2: Section A | IN2: Section A | IO2: Section A | IP2: Section A | IQ2: Section A | IR2: Section A | IS2: Section A | IT2: Section A | IU2: Section A | IV2: Section A | IW2: Section A | IX2: Section A | IY2: Section A | IZ2: Section A | JA2: Section A | JB2: Section B | JC2: Section B | JD2: Section B | JE2: Section B | JF2: Section B | JG2: TOTAL | JI2: 9 | JJ2: 8 | JK2: 7 | JL2: 6 | JM2: 5 | JN2: 4 | JO2: 3 | JP2: 2 | JQ2: 1 | JR2: TOTAL | JU2: 9 | JV2: 8 | JW2: 7 | JX2: 6 | JY2: 5 | JZ2: 4 | KA2: 3 | KB2: 2 | KC2: 1 | KD2: TOTAL | KF2: A/A-A/D | KG2: A/E | KH2: A/D2 | KI2: A/D2 | KJ2: A | KK2: A | KL2: A | KM2: A | KN2: A | KO2: A | KP2: A | KQ2: B | KR2: B | KS2: TOTAL | KT2: 12c | KU2: 12 | KV2: 11b | KW2: 10b | KX2: 10a | KY2: 9 | KZ2: 8 | LA2: Total | LD2: 10 | LE2: 9 | LF2: 8 | LG2: 7 | LH2: 6 | LI2: 5 | LJ2: 4 | LK2: 3 | LL2: 2 | LM2: 1 | LN2: TOTAL | LP2: X | LQ2: 12 | LR2: 11 | LS2: 10 | LT2: 9 | LU2: 8 | LV2: 7 | LW2: 6 | LX2: 5 | LY2: 4 | LZ2: 3 | MA2: 2 | MB2: 1 | MC2: TOTAL | ME2: 7 | MF2: 6 | MG2: 5 | MH2: 4 | MI2: 3 | MJ2: 2 | MK2: 1 | ML2: TOTAL | MN2: 9 | MO2: 8 | MP2: 7 | MQ2: 6 | MR2: 5 | MS2: 4 | MT2: 3 | MU2: 2 | MV2: 1 | MW2: TOTAL | MY2: 10 | MZ2: 9 | NA2: 8 | NB2: 7 | NC2: 6 | ND2: 5 | NE2: 4 | NF2: 3 | NG2: 2 | NH2: 1 | NI2: TOTAL | NK2: 12-H1 | NL2: H-G1 | NM2: 200-170 | NN2: 170-140 | NO2: 140-110 | NP2: 110-70 | NQ2: 70-50 | NR2: 50-30 | NS2: TOTAL | NU2: d2 | NV2: d2 | NW2: d2 | NX2: f2 | NY2: j2 | NZ2: TOTAL | OB2: 4a | OC2: 4 | OD2: 4 | OE2: 4-5 | OF2: 5 | OG2: 6 | OH2: Dolský mlýn A | OJ2: 3 | OK2: 4 | OL2: 4-5 | OM2: 5 | ON2: 6 | OO2: 6 | OP2: 9 | OQ2: TOTAL | OS2: 3 | OT2: 4 | OU2: 5 | OV2: 5a | OW2: 6 | OX2: 7 | OY2: 8 | OZ2: 9 | PA2: TOTAL | PC2: 3-4 | PD2: 5 | PE2: 5 | PF2: 5 | PG2: 5 | PH2: 5 | PI2: 5 | PJ2: 6 | PK2: Baze | PL2: TOTAL | PN2: 4 | PO2: 2 | PP2: 3 | PQ2: 4 | PR2: TOTAL | PT2: 4a | PU2: 4 | PV2: 4-5 | PW2: 5 | PX2: TOTAL | PZ2: 2 | QA2: 3 | QB2: 4 | QC2: 5 | QD2: TOTAL | QF2: 4 | QG2: 5 | QH2: 6 | QI2: 6 | QJ2: 7 | QK2: 7 | QL2: 7 | QM2: 8 | QN2: 8 | QO2: 8 | QP2: 9 | QQ2: 9 | QR2: TOTAL | QT2: 4a | QU2: 4 | QV2: 4-5 | QW2: 5 | QX2: 6 | QZ2: TOTAL | RB2: 4 | RC2: 5 | RD2: 6 | RE2: 6 | RF2: 9 | RG2: 9 | RH2: TOTAL | RJ2: 6 | RK2: 5 | RL2: 4 | RM2: 3 | RN2: 1 | RO2: 3 | RP2: 4 | RQ2: TOTAL | RS2: 1 | RT2: 2 | RU2: 3 | RV2: 4 | RW2: 5 | RX2: 6 | RY2: 7 | RZ2: 8 | SA2: 9 | SB2: 11 | SC2: TOTAL | SE2: 13 | SF2: 12 | SG2: 11 | SH2: 10 | SI2: 9 | SJ2: 9a | SK2: 8 | SL2: 7 | SM2: 6 | SN2: 5 | SO2: 4 | SP2: 3 | SQ2: 2 | SR2: 1 | SS2: TOTAL | SU2: 8 | SV2: 7 | SW2: 6 | SX2: 5 | SY2: 4 | SZ2: 3 | TA2: 2 | TB2: 1 | TC2: TOTAL | TE2: 15 | TF2: 14 | TG2: 13 | TH2: 12 | TI2: 11 | TJ2: 10 | TK2: 10 | TL2: 9 | TM2: 8 | TN2: 7 | TO2: 6 | TP2: 5 | TQ2: 4 | TR2: 3 | TS2: 2 | TT2: 1 | TU2: TOTAL | TW2: 15 | TX2: 14 | TY2: 13 | TZ2: 12 | UA2: 11 | UB2: 10b | UC2: 10 | UD2: 9 | UE2: 8 | UF2: 7 | UG2: 6 | UH2: 5 | UI2: 4 2 | UJ2: 4 1 | UK2: 3 | UL2: 2 | UM2: 1 | UN2: TOTAL | UP2: 7 | UQ2: 6b | UR2: 6a | US2: 5 | UT2: 4 | UU2: 3 | UV2: 2 | UW2: 1 | UX2: TOTAL | UZ2: 1 | VA2: 2 | VB2: 3 | VC2: 4 | VD2: 5 | VE2: 6 | VF2: 7 | VG2: 8 | VH2: 9 | VI2: 10 | VJ2: 11 | VK2: 13 | VL2: TOTAL | VN2: 1 | VO2: 2 | VP2: 2 | VQ2: 3 | VR2: 3 | VS2: 4 | VT2: 5 | VU2: TOTAL | XG2: B nadložní spraš (W3) | XI2: spraš W3 | XK2: 7 | XL2: 6 | XM2: 5 | XN2: 4 | XO2: 3 | XP2: 2 | XQ2: 1 | XR2: TOTAL | XT2: 7 | XU2: 6 | XV2: 5 | XW2: 4b | XX2: 4a | XY2: 3 | XZ2: 2 | YA2: 1b | YB2: 1a | YD2: 8 | YE2: 7 | YF2: 6 | YG2: 5 | YH2: 4 | YI2: 3 | YJ2: 2 | YK2: 1 | YO2: 8 | YP2: 7 | YQ2: 6 | YR2: 5 | YS2: 4 | YT2: 3 | YU2: 2 | YV2: 1 | YZ2: 7 | ZA2: 6 | ZB2: 5 | ZC2: 4 | ZD2: 3 | ZE2: 2 | ZF2: 1 | ZH2: 6 | ZI2: 5 | ZJ2: 4 | ZK2: 3 | ZL2: 2 | ZM2: 1 | ZO2: 7 | ZP2: 8 | ZQ2: 7 | ZR2: 6 | ZS2: 5 | ZT2: 4 | ZU2: 3 | ZV2: 2 | ZW2: 1 | ZY2: 5 | ZZ2: 4 | AAA2: 3 | AAB2: 2 | AAC2: 1 | AAE2: D | AAG2: 2 | AAH2: 3 | AAI2: 4 | AAJ2: 5 | AAL2: 4 | AAM2: 3 | AAN2: 2 | AAP2: 4 | AAQ2: 3 | AAR2: 2 | AAT2: 9 | AAU2: 8 | AAV2: 7 | AAW2: 6 | AAX2: 5 | AAY2: 4 | AAZ2: 3 | ABA2: 2 | ABB2: 1 | ABH2: D | ABI2: D | ABJ2: D | ABK2: D | ABL2: D | ABM2: D | ABN2: D | ABO2: D | ABP2: D | ABQ2: D | ABR2: D | ABS2: D | ABT2: D | ABU2: D | ABV2: D | ABW2: D | ABX2: D | ABY2: D | ABZ2: D | ACA2: D | ACB2: D | ACC2: D | ACD2: D | ACE2: D | ACF2: D | ACG2: D | ACH2: D | ACI2: D | ACK2: B | ACL2: C | ACM2: C | ACP2: Velky Mamutak | ACR2: vrt | ACS2: IH | ACT2: IH | ACU2: IH | ACV2: IH | ACW2: 156 | ACX2: 155 | ACY2: 154 | ACZ2: 153 | ADA2: 152 | ADB2: 151 | ADC2: 150 | ADD2: 149 | ADE2: 148 | ADF2: 147 | ADG2: 146 | ADH2: 145 | ADI2: 144 | ADJ2: 143 | ADK2: 142 | ADL2: 141 | ADM2: 140 | ADN2: 139 | ADO2: 138 | ADP2: 137 | ADQ2: 136 | ADR2: 135 | ADS2: 134 | ADT2: 133 | ADU2: 132 | ADV2: 131 | ADW2: 130 | ADX2: 129 | ADY2: 128 | ADZ2: 127 | AEA2: 126 | AEB2: 125 | AEC2: 124 | AED2: 123 | AEE2: 122 | AEF2: 121 | AEG2: 120 | AEH2: 119 | AEI2: 118 | AEJ2: 117 | AEK2: 116 | AEL2: 115 | AEM2: 114 | AEN2: 113 | AEO2: 112 | AEP2: 111 | AER2: Sovi TOTAL | AET2: 21 | AEU2: 22 | AEV2: 23 | AEW2: 24 | AEX2: 25 | AEY2: 26 | AEZ2: 27 | AFA2: 28 | AFB2: 29 | AFC2: 30 | AFD2: 31 | AFE2: 32 | AFF2: 33 | AFG2: 34 | AFH2: 35 | AFI2: 36 | AFJ2: 37 | AFK2: 38 | AFL2: 39 | AFM2: 40
D3: 9 | E3: 8c | F3: 8b | G3: 8a | H3: 7b | I3: 7a | J3: 6b | K3: 6a | L3: 5b | M3: 5a | N3: 4b | O3: 4a | P3: 3c | Q3: 3b | R3: 3a | S3: 2b | T3: 2a | U3: 1 | V3: 0b | W3: 0a | X3: P | IK3: 1 | IL3: 2 | IM3: 3 | IN3: 4 | IO3: 5 | IP3: 6 | IQ3: 7 | IR3: 8 | IS3: 9 | IT3: 10a | IU3: 10b | IV3: 10c | IW3: 11 | IX3: 12 | IY3: 13 | IZ3: 14 | JA3: 15 | JB3: B4 | JC3: B3 | JD3: B2 | JE3: B1 | JF3: B0 | KG3: J | KH3: X | KI3: Y | KJ3: H | KK3: G | KL3: F | KM3: E | KN3: D | KO3: C | KP3: B | KR3: H | NU3: bronz | NV3: neolit | NW3: "bílá" | NX3: ?neolit | NY3: base | OB3: 40-50 | OC3: 70-80 | OD3: 80-90 | OE3: 90-105 | OF3: 105-110 | OG3: 130 | OH3: TOTAL | OJ3: 30-35 | OK3: 55 | OL3: 80 | OM3: 85-90 | ON3: 110 | OO3: 110-120 | OP3: 180-190 | PC3: 30-40 | PD3: 80-100 | PE3: 90-100 | PF3: 100 | PG3: 70 | PH3: 70-75 | PI3: 80 | PJ3: 180-190 | QF3: 40-50 | QG3: 50-60 | QH3: 60-70 | QI3: 70-80 | QJ3: 80-90 | QK3: 90 | QL3: 100 | QM3: 110 | QN3: 110-120center | QO3: 110-115 left | QP3: 120-125 | QQ3: 130 | QT3: 40-50 | QU3: 70-80 | QV3: 80-90 | QW3: 90-105 | QX3: 105-110 | QY3: 130 | RB3: 55 | RC3: 85-90 | RD3: 110 | RE3: 110-120 | RF3: 130-135 | RG3: "objekt 9" | TE3: I | TF3: H | TG3: G | TH3: F | TI3: E | TJ3: D | VN3: 0-20 | VO3: 20-40 | VP3: 40-50 | VQ3: 60-80 | VR3: 90 | VS3: 90-110 | VT3: 110-140 | ABH3: 145 | ABI3: 140 | ABJ3: 135 | ABK3: 130 | ABL3: 125 | ABM3: 120 | ABN3: 115 | ABO3: 110 | ABP3: 105 | ABQ3: 100 | ABR3: 95 | ABS3: 90 | ABT3: 85 | ABU3: 80 | ABV3: 75 | ABW3: 70 | ABX3: 65 | ABY3: 60 | ABZ3: 55 | ACA3: 50 | ACB3: 45 | ACC3: 40 | ACD3: 35 | ACE3: 30 | ACF3: 25 | ACG3: 20 | ACH3: 15 | ACI3: SUM | ACK3: 15 | ACL3: 20 | ACM3: 25 | ACR3: 240-270 | ACS3: 240-250 | ACT3: 230-250 | ACU3: 210-220 | ACV3: 200-210 | ACW3: 240 | ACX3: 235 | ACY3: 230 | ACZ3: 225 | ADA3: 220 | ADB3: 215 | ADC3: 210 | ADD3: 205 | ADE3: 200 | ADF3: 195 | ADG3: 190 | ADH3: 185 | ADI3: 180 | ADJ3: 175 | ADK3: 170 | ADL3: 165 | ADM3: 160 | ADN3: 155 | ADO3: 150 | ADP3: 145 | ADQ3: 140 | ADR3: 135 | ADS3: 130 | ADT3: 125 | ADU3: 120 | ADV3: 115 | ADW3: 110 | ADX3: 105 | ADY3: 100 | ADZ3: 95 | AEA3: 90 | AEB3: 85 | AEC3: 80 | AED3: 75 | AEE3: 70 | AEF3: 65 | AEG3: 60 | AEH3: 55 | AEI3: 50 | AEJ3: 45 | AEK3: 40 | AEL3: 35 | AEM3: 30 | AEN3: 25 | AEO3: 20 | AEP3: 15 | AER3: cm | AET3: 15 | AEU3: 20 | AEV3: 25 | AEW3: 30 | AEX3: 35 | AEY3: 40 | AEZ3: 45 | AFA3: 50 | AFB3: 55 | AFC3: 60 | AFD3: 65 | AFE3: 70 | AFF3: 75 | AFG3: 80 | AFH3: 85 | AFI3: 90 | AFJ3: 95 | AFK3: 100 | AFL3: 105 | AFM3: 110
ABH4: 150 | ABI4: 145 | ABJ4: 140 | ABK4: 135 | ABL4: 130 | ABM4: 125 | ABN4: 120 | ABO4: 115 | ABP4: 110 | ABQ4: 105 | ABR4: 100 | ABS4: 95 | ABT4: 90 | ABU4: 85 | ABV4: 80 | ABW4: 75 | ABX4: 70 | ABY4: 65 | ABZ4: 60 | ACA4: 55 | ACB4: 50 | ACC4: 45 | ACD4: 40 | ACE4: 35 | ACF4: 30 | ACG4: 25 | ACH4: 20 | ACK4: 20 | ACL4: 25 | ACM4: 30
B5: Erinaceus sp. | C5: Erin | D5: 0 | E5: 0 | F5: 1 | G5: 0 | H5: 0 | I5: 0 | J5: 1 | K5: 0 | L5: 0 | M5: 0 | N5: 0 | O5: 0 | P5: 0 | Q5: 0 | R5: 0 | S5: 0 | T5: 0 | U5: 0 | V5: 0 | W5: 0 | X5: 0 | Y5: 0 | AA5: 0 | AB5: 0 | AC5: 0 | AD5: 0 | AE5: 0 | AF5: 0 | AG5: 0 | AH5: 0 | AI5: 0 | AJ5: 0 | AK5: 0 | AL5: 0 | AM5: 0 | AN5: 0 | AO5: 0 | AP5: 0 | AQ5: 0 | AR5: 0 | AS5: 0 | AT5: 0 | AU5: 0 | AV5: 0 | AW5: 0 | AX5: 0 | AY5: 0 | AZ5: 0 | BA5: 0 | BB5: 0 | BC5: 0 | BD5: 0 | BE5: 0 | BF5: 0 | BG5: 0 | BH5: 0 | BI5: 0 | BJ5: 0 | BK5: 0 | BL5: 0 | BM5: 0 | BN5: 0 | BO5: 0 | BP5: 0 | BQ5: 0 | BR5: 0 | BS5: 0 | BT5: 0 | BU5: 0 | BV5: 0 | BW5: 0 | BX5: 0 | BY5: 0 | BZ5: 0 | CA5: 0 | CB5: 0 | CC5: 0 | CD5: 0 | CE5: 0 | CF5: 0 | CG5: 0 | CH5: 0 | CI5: 0 | CJ5: 0 | CK5: 0 | CL5: 0 | CM5: 0 | CN5: 0 | CO5: 0 | CP5: 0 | CQ5: 0 | CR5: 0 | CS5: 0 | CT5: 0 | CU5: 0 | CV5: 0 | CW5: 0 | CX5: 0 | CY5: 0 | CZ5: 0 | DA5: 0 | DB5: 0 | DC5: 0 | DD5: 0 | DE5: 0 | DF5: 0 | DG5: 0 | DH5: 0 | DI5: 0 | DJ5: 0 | DK5: 0 | DL5: 0 | DM5: 1 | DN5: 1 | DO5: 1 | DP5: 0 | DQ5: 1 | DR5: 0 | DS5: 0 | DT5: 0 | DU5: 0 | DV5: 0 | DW5: 0 | DX5: 0 | DY5: 0 | DZ5: 1 | EA5: 0 | EB5: 0 | EC5: 0 | ED5: 0 | EE5: 0 | EF5: 0 | EG5: 0 | EH5: 0 | EI5: 0 | EJ5: 0 | EK5: 0 | EL5: 0 | EM5: 0 | EN5: 0 | EO5: 0 | EP5: 0 | EQ5: 0 | ER5: 0 | ES5: 0 | ET5: 0 | EU5: 0 | EV5: 0 | EW5: 0 | EX5: 0 | EY5: 0 | EZ5: 0 | FA5: 0 | FB5: 0 | FC5: 0 | FD5: 0 | FE5: 0 | FF5: 0 | FG5: 0 | FH5: 0 | FI5: 0 | FJ5: 0 | FK5: 0 | FL5: 0 | FM5: 0 | FN5: 0 | FO5: 0 | FP5: 0 | FQ5: 0 | FR5: 0 | FS5: 0 | FT5: 0 | FU5: 0 | FV5: 0 | FW5: 1 | FX5: 1 | FY5: 0 | FZ5: 0 | GA5: 0 | GB5: 0 | GC5: 0 | GD5: 0 | GE5: 0 | GF5: 0 | GG5: 0 | GH5: 0 | GI5: 0 | GJ5: 0 | GK5: 0 | GL5: 0 | GM5: 0 | GN5: 0 | GO5: 0 | GP5: 0 | GQ5: 0 | GR5: 0 | GS5: 0 | GT5: 0 | GU5: 0 | GV5: 0 | GW5: 0 | GX5: 0 | GY5: 0 | GZ5: 0 | HA5: 0 | HB5: 0 | HC5: 0 | HD5: 0 | HE5: 0 | HF5: 0 | HG5: 0 | HH5: 0 | HI5: 0 | HJ5: 0 | HK5: 0 | HL5: 0 | HM5: 0 | HN5: 0 | HO5: 0 | HP5: 0 | HQ5: 0 | HR5: 0 | HS5: 0 | HT5: 0 | HU5: 0 | HV5: 0 | HW5: 0 | HX5: 0 | HY5: 0 | HZ5: 0 | IA5: 0 | IB5: 0 | IC5: 0 | ID5: 0 | IE5: 0 | IF5: 0 | IG5: 0 | IH5: 0 | II5: 0 | IJ5: 0 | IK5: 0 | IL5: 0 | IM5: 0 | IN5: 0 | IO5: 0 | IP5: 0 | IQ5: 0 | IR5: 0 | IS5: 0 | IT5: 0 | IU5: 0 | IV5: 0 | IW5: 0 | IX5: 0 | IY5: 0 | IZ5: 0 | JA5: 0 | JB5: 0 | JC5: 0 | JD5: 0 | JE5: 0 | JF5: 0 | JG5: 0 | JH5: 0 | JI5: 0 | JJ5: 0 | JK5: 0 | JL5: 0 | JM5: 0 | JN5: 0 | JO5: 0 | JP5: 1 | JQ5: 1 | JR5: 0 | JS5: 0 | JT5: 0 | JU5: 0 | JV5: 0 | JW5: 0 | JX5: 0 | JY5: 0 | JZ5: 0 | KA5: 1 | KB5: 0 | KC5: 0 | KD5: 0 | KE5: 0 | KF5: 0 | KG5: 0 | KH5: 0 | KI5: 0 | KJ5: 0 | KK5: 0 | KL5: 0 | KM5: 0 | KN5: 0 | KO5: 0 | KP5: 0 | KQ5: 0 | KR5: 0 | KS5: 0 | KT5: 0 | KU5: 0 | KV5: 0 | KW5: 0 | KX5: 0 | KY5: 0 | KZ5: 0 | LA5: 0 | LB5: 0 | LC5: 0 | LD5: 0 | LE5: 0 | LF5: 0 | LG5: 0 | LH5: 0 | LI5: 0 | LJ5: 0 | LK5: 0 | LL5: 0 | LM5: 0 | LN5: 0 | LO5: 0 | LP5: 0 | LQ5: 0 | LR5: 0 | LS5: 0 | LT5: 0 | LU5: 0 | LV5: 0 | LW5: 0 | LX5: 0 | LY5: 0 | LZ5: 0 | MA5: 0 | MB5: 1 | MC5: 0 | MD5: 0 | ME5: 0 | MF5: 0 | MG5: 0 | MH5: 0 | MI5: 0 | MJ5: 0 | MK5: 0 | ML5: 0 | MM5: 0 | MN5: 0 | MO5: 0 | MP5: 0 | MQ5: 0 | MR5: 0 | MS5: 0 | MT5: 0 | MU5: 0 | MV5: 0 | MW5: 0 | MX5: 0 | MY5: 0 | MZ5: 0 | NA5: 0 | NB5: 0 | NC5: 0 | ND5: 0 | NE5: 1 | NF5: 0 | NG5: 0 | NH5: 0 | NI5: 0 | NJ5: 0 | NK5: 0 | NL5: 0 | NM5: 0 | NN5: 0 | NO5: 0 | NP5: 0 | NQ5: 0 | NR5: 0 | NS5: 0 | NT5: 0 | NU5: 0 | NV5: 0 | NW5: 0 | NX5: 0 | NY5: 0 | NZ5: 0 | OA5: 0 | OB5: 0 | OC5: 0 | OD5: 0 | OE5: 0 | OF5: 0 | OG5: 0 | OH5: 0 | OI5: 0 | OJ5: 0 | OK5: 0 | OL5: 0 | OM5: 0 | ON5: 0 | OO5: 0 | OP5: 0 | OQ5: 0 | OR5: 0 | OS5: 0 | OT5: 0 | OU5: 0 | OV5: 0 | OW5: 0 | OX5: 0 | OY5: 0 | OZ5: 0 | PA5: 0 | PB5: 0 | PC5: 0 | PD5: 0 | PE5: 1 | PF5: 0 | PG5: 0 | PH5: 0 | PI5: 0 | PJ5: 0 | PK5: 0 | PL5: 0 | PM5: 0 | PN5: 0 | PO5: 0 | PP5: 0 | PQ5: 0 | PR5: 0 | PS5: 0 | PT5: 0 | PU5: 0 | PV5: 0 | PW5: 0 | PX5: 0 | PY5: 0 | PZ5: 0 | QA5: 0 | QB5: 0 | QC5: 0 | QD5: 0 | QE5: 0 | QF5: 0 | QG5: 0 | QH5: 0 | QI5: 0 | QJ5: 0 | QK5: 0 | QL5: 0 | QM5: 0 | QN5: 0 | QO5: 0 | QP5: 0 | QQ5: 0 | QR5: 0 | QS5: 0 | QT5: 0 | QU5: 0 | QV5: 0 | QW5: 0 | QX5: 0 | QY5: 0 | QZ5: 0 | RA5: 0 | RB5: 0 | RC5: 0 | RD5: 0 | RE5: 0 | RF5: 0 | RG5: 0 | RH5: 0 | RI5: 0 | RJ5: 0 | RK5: 0 | RL5: 0 | RM5: 0 | RN5: 0 | RO5: 0 | RP5: 0 | RQ5: 0 | RR5: 0 | RS5: 1 | RT5: 0 | RU5: 0 | RV5: 0 | RW5: 0 | RX5: 0 | RY5: 0 | RZ5: 0 | SA5: 0 | SB5: 0 | SC5: 0 | SD5: 0 | SE5: 0 | SF5: 0 | SG5: 0 | SH5: 0 | SI5: 0 | SJ5: 0 | SK5: 1 | SL5: 0 | SM5: 0 | SN5: 0 | SO5: 0 | SP5: 0 | SQ5: 0 | SR5: 0 | SS5: 0 | ST5: 0 | SU5: 0 | SV5: 0 | SW5: 0 | SX5: 0 | SY5: 0 | SZ5: 0 | TA5: 0 | TB5: 0 | TC5: 0 | TD5: 0 | TE5: 0 | TF5: 0 | TG5: 0 | TH5: 0 | TI5: 0 | TJ5: 0 | TK5: 0 | TL5: 0 | TM5: 0 | TN5: 0 | TO5: 0 | TP5: 0 | TQ5: 0 | TR5: 0 | TS5: 0 | TT5: 0 | TU5: 0 | TV5: 0 | TW5: 0 | TX5: 0 | TY5: 0 | TZ5: 0 | UA5: 0 | UB5: 0 | UC5: 0 | UD5: 0 | UE5: 0 | UF5: 0 | UG5: 1 | UH5: 0 | UI5: 1 | UJ5: 0 | UK5: 0 | UL5: 0 | UM5: 0 | UN5: 0 | UO5: 0 | UP5: 0 | UQ5: 0 | UR5: 0 | US5: 0 | UT5: 0 | UU5: 0 | UV5: 0 | UW5: 0 | UX5: 0 | UY5: 0 | UZ5: 0 | VA5: 0 | VB5: 0 | VC5: 0 | VD5: 0 | VE5: 1 | VF5: 0 | VG5: 0 | VH5: 1 | VI5: 0 | VJ5: 0 | VK5: 0 | VL5: 0 | VM5: 0 | VN5: 0 | VO5: 0 | VP5: 0 | VQ5: 0 | VR5: 0 | VS5: 0 | VT5: 0 | VU5: 0 | VV5: 0 | VW5: 0 | VX5: 0 | VY5: 0 | VZ5: 0 | WA5: 0 | WB5: 0 | WC5: 0 | WD5: 0 | WE5: 0 | WF5: 0 | WG5: 0 | WH5: 0 | WI5: 0 | WJ5: 0 | WK5: 0 | WL5: 0 | WM5: 0 | WN5: 0 | WO5: 0 | WP5: 0 | WQ5: 0 | WR5: 0 | WS5: 0 | WT5: 0 | WU5: 0 | WV5: 0 | WW5: 0 | WX5: 0 | WY5: 0 | WZ5: 0 | XA5: 0 | XB5: 0 | XC5: 0 | XD5: 0 | XE5: 0 | XF5: 0 | XG5: 0 | XH5: 0 | XI5: 0 | XJ5: 0 | XK5: 0 | XL5: 0 | XM5: 0 | XN5: 0 | XO5: 0 | XP5: 0 | XQ5: 0 | XR5: 0 | XS5: 0 | XT5: 0 | XU5: 0 | XV5: 0 | XW5: 0 | XX5: 1 | XY5: 0 | XZ5: 0 | YA5: 0 | YB5: 0 | YC5: 0 | YD5: 0 | YE5: 0 | YF5: 0 | YG5: 0 | YH5: 0 | YI5: 0 | YJ5: 0 | YK5: 0 | YL5: 0 | YM5: 0 | YN5: 0 | YO5: 0 | YP5: 0 | YQ5: 0 | YR5: 0 | YS5: 0 | YT5: 0 | YU5: 0 | YV5: 0 | YW5: 0 | YX5: 0 | YY5: 0 | YZ5: 0 | ZA5: 0 | ZB5: 0 | ZC5: 0 | ZD5: 0 | ZE5: 0 | ZF5: 0 | ZG5: 0 | ZH5: 0 | ZI5: 0 | ZJ5: 0 | ZK5: 0 | ZL5: 0 | ZM5: 0 | ZN5: 0 | ZO5: 0 | ZP5: 0 | ZQ5: 0 | ZR5: 0 | ZS5: 0 | ZT5: 0 | ZU5: 0 | ZV5: 0 | ZW5: 0 | ZX5: 0 | ZY5: 0 | ZZ5: 0 | AAA5: 0 | AAB5: 0 | AAC5: 0 | AAD5: 0 | AAE5: 0 | AAF5: 0 | AAG5: 0 | AAH5: 0 | AAI5: 0 | AAJ5: 0 | AAK5: 0 | AAL5: 0 | AAM5: 0 | AAN5: 0 | AAO5: 0 | AAP5: 0 | AAQ5: 0 | AAR5: 0 | AAS5: 0 | AAT5: 0 | AAU5: 0 | AAV5: 0 | AAW5: 0 | AAX5: 0 | AAY5: 0 | AAZ5: 0 | ABA5: 1 | ABB5: 0 | ABD5: 23 | ABF5: 726 | ABH5: 0 | ABI5: 0 | ABJ5: 0 | ABK5: 0 | ABL5: 1 | ABM5: 1 | ABN5: 0 | ABO5: 1 | ABP5: 0 | ABQ5: 0 | ABR5: 0 | ABS5: 0 | ABT5: 0 | ABU5: 0 | ABV5: 0 | ABW5: 0 | ABX5: 0 | ABY5: 0 | ABZ5: 0 | ACA5: 0 | ACB5: 0 | ACC5: 0 | ACD5: 0 | ACE5: 0 | ACF5: 0 | ACG5: 0 | ACH5: 0 | ACI5: 3 | ACJ5: 0 | ACK5: 0 | ACL5: 0 | ACM5: 0
B6: Talpa europaea | C6: Talpa | D6: 2 | E6: 5 | F6: 4 | G6: 2 | H6: 6 | I6: 7 | J6: 4 | K6: 7 | L6: 3 | M6: 3 | N6: 14 | O6: 10 | P6: 8 | Q6: 8 | R6: 13 | S6: 15 | T6: 6 | U6: 5 | V6: 2 | W6: 5 | X6: 2 | Y6: 0 | AA6: 0 | AB6: 0 | AC6: 0 | AD6: 0 | AE6: 0 | AF6: 1 | AG6: 0 | AH6: 0 | AI6: 0 | AJ6: 0 | AK6: 0 | AL6: 0 | AM6: 0 | AN6: 0 | AO6: 0 | AP6: 0 | AQ6: 0 | AR6: 0 | AS6: 0 | AT6: 1 | AU6: 0 | AV6: 1 | AW6: 0 | AX6: 0 | AY6: 0 | AZ6: 0 | BA6: 0 | BB6: 1 | BC6: 1 | BD6: 3 | BE6: 2 | BF6: 1 | BG6: 0 | BH6: 0 | BI6: 0 | BJ6: 0 | BK6: 0 | BL6: 0 | BM6: 0 | BN6: 0 | BO6: 0 | BP6: 0 | BQ6: 0 | BR6: 0 | BS6: 0 | BT6: 1 | BU6: 0 | BV6: 0 | BW6: 1 | BX6: 1 | BY6: 1 | BZ6: 0 | CA6: 0 | CB6: 0 | CC6: 0 | CD6: 1 | CE6: 1 | CF6: 1 | CG6: 1 | CH6: 1 | CI6: 0 | CJ6: 0 | CK6: 1 | CL6: 0 | CM6: 0 | CN6: 0 | CO6: 1 | CP6: 1 | CQ6: 0 | CR6: 2 | CS6: 2 | CT6: 0 | CU6: 0 | CV6: 1 | CW6: 0 | CX6: 0 | CY6: 0 | CZ6: 0 | DA6: 0 | DB6: 0 | DC6: 0 | DD6: 0 | DE6: 0 | DF6: 0 | DG6: 0 | DH6: 1 | DI6: 0 | DJ6: 2 | DK6: 0 | DL6: 0 | DM6: 0 | DN6: 1 | DO6: 0 | DP6: 0 | DQ6: 1 | DR6: 0 | DS6: 0 | DT6: 0 | DU6: 0 | DV6: 0 | DW6: 1 | DX6: 1 | DY6: 0 | DZ6: 1 | EA6: 0 | EB6: 0 | EC6: 0 | ED6: 0 | EE6: 0 | EF6: 0 | EG6: 1 | EH6: 1 | EI6: 2 | EJ6: 1 | EK6: 1 | EL6: 0 | EM6: 3 | EN6: 1 | EO6: 2 | EP6: 1 | EQ6: 2 | ER6: 2 | ES6: 1 | ET6: 0 | EU6: 0 | EV6: 0 | EW6: 0 | EX6: 0 | EY6: 0 | EZ6: 0 | FA6: 1 | FB6: 0 | FC6: 0 | FD6: 0 | FE6: 0 | FF6: 0 | FG6: 0 | FH6: 0 | FI6: 0 | FJ6: 0 | FK6: 0 | FL6: 1 | FM6: 1 | FN6: 1 | FO6: 0 | FP6: 0 | FQ6: 0 | FR6: 0 | FS6: 0 | FT6: 0 | FU6: 0 | FV6: 1 | FW6: 1 | FX6: 2 | FY6: 1 | FZ6: 1 | GA6: 1 | GB6: 1 | GC6: 0 | GD6: 0 | GE6: 0 | GF6: 0 | GG6: 0 | GH6: 0 | GI6: 1 | GJ6: 1 | GK6: 1 | GL6: 1 | GM6: 0 | GN6: 0 | GO6: 0 | GP6: 0 | GQ6: 0 | GR6: 0 | GS6: 0 | GT6: 0 | GU6: 0 | GV6: 0 | GW6: 0 | GX6: 0 | GY6: 0 | GZ6: 1 | HA6: 1 | HB6: 0 | HC6: 0 | HD6: 0 | HE6: 0 | HF6: 0 | HG6: 0 | HH6: 0 | HI6: 1 | HJ6: 0 | HK6: 0 | HL6: 1 | HM6: 1 | HN6: 0 | HO6: 0 | HP6: 0 | HQ6: 0 | HR6: 0 | HS6: 1 | HT6: 1 | HU6: 1 | HV6: 0 | HW6: 0 | HX6: 1 | HY6: 1 | HZ6: 0 | IA6: 0 | IB6: 1 | IC6: 1 | ID6: 2 | IE6: 2 | IF6: 1 | IG6: 2 | IH6: 1 | II6: 0 | IJ6: 0 | IK6: 1 | IL6: 1 | IM6: 1 | IN6: 0 | IO6: 0 | IP6: 1 | IQ6: 0 | IR6: 0 | IS6: 1 | IT6: 1 | IU6: 2 | IV6: 1 | IW6: 0 | IX6: 0 | IY6: 0 | IZ6: 0 | JA6: 0 | JB6: 0 | JC6: 0 | JD6: 0 | JE6: 0 | JF6: 0 | JG6: 0 | JH6: 0 | JI6: 0 | JJ6: 1 | JK6: 0 | JL6: 1 | JM6: 1 | JN6: 0 | JO6: 1 | JP6: 1 | JQ6: 1 | JR6: 0 | JS6: 0 | JT6: 0 | JU6: 1 | JV6: 1 | JW6: 0 | JX6: 1 | JY6: 1 | JZ6: 2 | KA6: 2 | KB6: 2 | KC6: 1 | KD6: 0 | KE6: 0 | KF6: 1 | KG6: 2 | KH6: 1 | KI6: 0 | KJ6: 1 | KK6: 2 | KL6: 0 | KM6: 0 | KN6: 0 | KO6: 0 | KP6: 0 | KQ6: 0 | KR6: 0 | KS6: 0 | KT6: 1 | KU6: 2 | KV6: 1 | KW6: 1 | KX6: 4 | KY6: 0 | KZ6: 0 | LA6: 0 | LB6: 0 | LC6: 0 | LD6: 0 | LE6: 0 | LF6: 1 | LG6: 1 | LH6: 0 | LI6: 0 | LJ6: 0 | LK6: 0 | LL6: 0 | LM6: 1 | LN6: 0 | LO6: 0 | LP6: 1 | LQ6: 0 | LR6: 0 | LS6: 0 | LT6: 0 | LU6: 0 | LV6: 0 | LW6: 0 | LX6: 1 | LY6: 0 | LZ6: 0 | MA6: 1 | MB6: 0 | MC6: 0 | MD6: 0 | ME6: 0 | MF6: 0 | MG6: 1 | MH6: 0 | MI6: 0 | MJ6: 0 | MK6: 0 | ML6: 0 | MM6: 0 | MN6: 0 | MO6: 0 | MP6: 0 | MQ6: 0 | MR6: 0 | MS6: 0 | MT6: 1 | MU6: 0 | MV6: 1 | MW6: 0 | MX6: 0 | MY6: 0 | MZ6: 0 | NA6: 0 | NB6: 0 | NC6: 0 | ND6: 1 | NE6: 0 | NF6: 0 | NG6: 0 | NH6: 1 | NI6: 0 | NJ6: 0 | NK6: 0 | NL6: 1 | NM6: 1 | NN6: 0 | NO6: 1 | NP6: 0 | NQ6: 0 | NR6: 0 | NS6: 0 | NT6: 0 | NU6: 0 | NV6: 0 | NW6: 0 | NX6: 0 | NY6: 1 | NZ6: 0 | OA6: 0 | OB6: 0 | OC6: 0 | OD6: 0 | OE6: 1 | OF6: 0 | OG6: 0 | OH6: 0 | OI6: 0 | OJ6: 0 | OK6: 0 | OL6: 0 | OM6: 0 | ON6: 0 | OO6: 0 | OP6: 0 | OQ6: 0 | OR6: 0 | OS6: 0 | OT6: 0 | OU6: 0 | OV6: 1 | OW6: 5 | OX6: 2 | OY6: 0 | OZ6: 0 | PA6: 0 | PB6: 0 | PC6: 1 | PD6: 1 | PE6: 0 | PF6: 0 | PG6: 1 | PH6: 0 | PI6: 1 | PJ6: 0 | PK6: 0 | PL6: 0 | PM6: 0 | PN6: 0 | PO6: 0 | PP6: 0 | PQ6: 0 | PR6: 0 | PS6: 0 | PT6: 0 | PU6: 0 | PV6: 0 | PW6: 0 | PX6: 0 | PY6: 0 | PZ6: 0 | QA6: 0 | QB6: 0 | QC6: 0 | QD6: 0 | QE6: 0 | QF6: 0 | QG6: 0 | QH6: 0 | QI6: 1 | QJ6: 0 | QK6: 0 | QL6: 0 | QM6: 0 | QN6: 0 | QO6: 0 | QP6: 1 | QQ6: 0 | QR6: 0 | QS6: 0 | QT6: 0 | QU6: 0 | QV6: 0 | QW6: 1 | QX6: 0 | QY6: 0 | QZ6: 0 | RA6: 0 | RB6: 0 | RC6: 0 | RD6: 0 | RE6: 0 | RF6: 0 | RG6: 0 | RH6: 0 | RI6: 0 | RJ6: 0 | RK6: 0 | RL6: 0 | RM6: 1 | RN6: 0 | RO6: 0 | RP6: 0 | RQ6: 0 | RR6: 0 | RS6: 1 | RT6: 1 | RU6: 2 | RV6: 5 | RW6: 1 | RX6: 0 | RY6: 0 | RZ6: 0 | SA6: 11 | SB6: 2 | SC6: 0 | SD6: 0 | SE6: 0 | SF6: 0 | SG6: 2 | SH6: 1 | SI6: 3 | SJ6: 1 | SK6: 2 | SL6: 1 | SM6: 1 | SN6: 0 | SO6: 1 | SP6: 1 | SQ6: 1 | SR6: 1 | SS6: 0 | ST6: 0 | SU6: 0 | SV6: 0 | SW6: 0 | SX6: 0 | SY6: 1 | SZ6: 0 | TA6: 1 | TB6: 0 | TC6: 0 | TD6: 0 | TE6: 0 | TF6: 1 | TG6: 1 | TH6: 3 | TI6: 2 | TJ6: 1 | TK6: 1 | TL6: 0 | TM6: 0 | TN6: 0 | TO6: 1 | TP6: 1 | TQ6: 0 | TR6: 0 | TS6: 0 | TT6: 0 | TU6: 0 | TV6: 0 | TW6: 0 | TX6: 1 | TY6: 0 | TZ6: 0 | UA6: 1 | UB6: 1 | UC6: 1 | UD6: 2 | UE6: 2 | UF6: 2 | UG6: 1 | UH6: 1 | UI6: 1 | UJ6: 1 | UK6: 2 | UL6: 1 | UM6: 1 | UN6: 0 | UO6: 0 | UP6: 0 | UQ6: 0 | UR6: 0 | US6: 1 | UT6: 1 | UU6: 1 | UV6: 0 | UW6: 0 | UX6: 0 | UY6: 0 | UZ6: 0 | VA6: 1 | VB6: 2 | VC6: 2 | VD6: 1 | VE6: 1 | VF6: 1 | VG6: 4 | VH6: 2 | VI6: 0 | VJ6: 1 | VK6: 0 | VL6: 0 | VM6: 0 | VN6: 1 | VO6: 0 | VP6: 1 | VQ6: 1 | VR6: 1 | VS6: 0 | VT6: 0 | VU6: 0 | VV6: 0 | VW6: 0 | VX6: 0 | VY6: 0 | VZ6: 0 | WA6: 0 | WB6: 0 | WC6: 0 | WD6: 0 | WE6: 0 | WF6: 0 | WG6: 0 | WH6: 0 | WI6: 0 | WJ6: 0 | WK6: 0 | WL6: 0 | WM6: 0 | WN6: 0 | WO6: 0 | WP6: 0 | WQ6: 0 | WR6: 0 | WS6: 0 | WT6: 0 | WU6: 0 | WV6: 0 | WW6: 0 | WX6: 0 | WY6: 0 | WZ6: 0 | XA6: 0 | XB6: 0 | XC6: 0 | XD6: 0 | XE6: 0 | XF6: 0 | XG6: 0 | XH6: 0 | XI6: 0 | XJ6: 0 | XK6: 0 | XL6: 0 | XM6: 0 | XN6: 1 | XO6: 1 | XP6: 1 | XQ6: 1 | XR6: 0 | XS6: 0 | XT6: 0 | XU6: 0 | XV6: 0 | XW6: 1 | XX6: 1 | XY6: 1 | XZ6: 1 | YA6: 1 | YB6: 1 | YC6: 0 | YD6: 0 | YE6: 0 | YF6: 0 | YG6: 0 | YH6: 0 | YI6: 0 | YJ6: 0 | YK6: 0 | YL6: 0 | YM6: 2 | YN6: 0 | YO6: 0 | YP6: 1 | YQ6: 1 | YR6: 1 | YS6: 1 | YT6: 0 | YU6: 0 | YV6: 0 | YW6: 0 | YX6: 0 | YY6: 0 | YZ6: 0 | ZA6: 0 | ZB6: 1 | ZC6: 0 | ZD6: 0 | ZE6: 0 | ZF6: 0 | ZG6: 0 | ZH6: 1 | ZI6: 1 | ZJ6: 0 | ZK6: 0 | ZL6: 0 | ZM6: 0 | ZN6: 0 | ZO6: 0 | ZP6: 0 | ZQ6: 0 | ZR6: 0 | ZS6: 1 | ZT6: 0 | ZU6: 0 | ZV6: 0 | ZW6: 0 | ZX6: 0 | ZY6: 1 | ZZ6: 0 | AAA6: 0 | AAB6: 0 | AAC6: 0 | AAD6: 0 | AAE6: 0 | AAF6: 0 | AAG6: 0 | AAH6: 0 | AAI6: 0 | AAJ6: 1 | AAK6: 0 | AAL6: 0 | AAM6: 0 | AAN6: 0 | AAO6: 0 | AAP6: 0 | AAQ6: 1 | AAR6: 0 | AAS6: 0 | AAT6: 0 | AAU6: 0 | AAV6: 0 | AAW6: 0 | AAX6: 0 | AAY6: 1 | AAZ6: 1 | ABA6: 0 | ABB6: 0 | ABD6: 411 | ABF6: 726 | ABH6: 0 | ABI6: 0 | ABJ6: 0 | ABK6: 0 | ABL6: 0 | ABM6: 1 | ABN6: 0 | ABO6: 0 | ABP6: 1 | ABQ6: 0 | ABR6: 1 | ABS6: 0 | ABT6: 0 | ABU6: 1 | ABV6: 1 | ABW6: 1 | ABX6: 0 | ABY6: 0 | ABZ6: 1 | ACA6: 1 | ACB6: 0 | ACC6: 1 | ACD6: 1 | ACE6: 0 | ACF6: 0 | ACG6: 0 | ACH6: 1 | ACI6: 11 | ACJ6: 0 | ACK6: 0 | ACL6: 0 | ACM6: 0 | ACR6: 1 | ACS6: 0 | ACT6: 2 | ACU6: 1 | ACV6: 0 | ACW6: 0 | ACX6: 0 | ACY6: 1 | ACZ6: 1 | ADA6: 1 | ADB6: 1 | ADC6: 1 | ADD6: 0 | ADE6: 0 | ADF6: 0 | ADG6: 2 | ADH6: 2 | ADI6: 1 | ADJ6: 0 | ADK6: 0 | ADL6: 0 | ADM6: 0 | ADN6: 0 | ADO6: 0 | ADP6: 1 | ADQ6: 0 | ADR6: 1 | ADS6: 1 | ADT6: 0 | ADU6: 0 | ADV6: 0 | ADW6: 0 | ADX6: 0 | ADY6: 0 | ADZ6: 0 | AEA6: 0 | AEB6: 0 | AEC6: 0 | AED6: 0 | AEE6: 0 | AEF6: 0 | AEG6: 0 | AEH6: 0 | AEI6: 1 | AEJ6: 1 | AEK6: 0 | AEL6: 1 | AEM6: 0 | AEN6: 0 | AEO6: 0 | AEP6: 0 | AET6: 0 | AEU6: 0 | AEV6: 0 | AEW6: 1 | AEX6: 0 | AEY6: 0 | AEZ6: 0 | AFA6: 0 | AFB6: 0 | AFC6: 0 | AFD6: 0 | AFE6: 0 | AFF6: 1 | AFG6: 0 | AFH6: 3 | AFI6: 1 | AFJ6: 0 | AFK6: 0 | AFL6: 0 | AFM6: 0
B7: Sorex minutus | C7: Smin | D7: 2 | E7: 5 | F7: 4 | G7: 2 | H7: 6 | I7: 7 | J7: 4 | K7: 7 | L7: 3 | M7: 3 | N7: 14 | O7: 10 | P7: 8 | Q7: 8 | R7: 13 | S7: 15 | T7: 6 | U7: 5 | V7: 2 | W7: 5 | X7: 2 | Y7: 0 | AA7: 0 | AB7: 0 | AC7: 0 | AD7: 0 | AE7: 0 | AF7: 1 | AG7: 0 | AH7: 0 | AI7: 0 | AJ7: 0 | AK7: 0 | AL7: 0 | AM7: 0 | AN7: 0 | AO7: 0 | AP7: 0 | AQ7: 0 | AR7: 0 | AS7: 0 | AT7: 1 | AU7: 0 | AV7: 1 | AW7: 0 | AX7: 0 | AY7: 0 | AZ7: 0 | BA7: 0 | BB7: 1 | BC7: 1 | BD7: 3 | BE7: 2 | BF7: 1 | BG7: 0 | BH7: 0 | BI7: 0 | BJ7: 0 | BK7: 0 | BL7: 0 | BM7: 0 | BN7: 0 | BO7: 0 | BP7: 0 | BQ7: 0 | BR7: 0 | BS7: 0 | BT7: 1 | BU7: 0 | BV7: 0 | BW7: 1 | BX7: 1 | BY7: 1 | BZ7: 0 | CA7: 0 | CB7: 0 | CC7: 0 | CD7: 1 | CE7: 1 | CF7: 1 | CG7: 1 | CH7: 1 | CI7: 0 | CJ7: 0 | CK7: 1 | CL7: 0 | CM7: 0 | CN7: 0 | CO7: 1 | CP7: 1 | CQ7: 0 | CR7: 2 | CS7: 2 | CT7: 0 | CU7: 0 | CV7: 1 | CW7: 0 | CX7: 0 | CY7: 0 | CZ7: 0 | DA7: 0 | DB7: 0 | DC7: 0 | DD7: 0 | DE7: 0 | DF7: 0 | DG7: 0 | DH7: 1 | DI7: 0 | DJ7: 2 | DK7: 0 | DL7: 0 | DM7: 0 | DN7: 1 | DO7: 0 | DP7: 0 | DQ7: 1 | DR7: 0 | DS7: 0 | DT7: 0 | DU7: 0 | DV7: 0 | DW7: 1 | DX7: 1 | DY7: 0 | DZ7: 1 | EA7: 0 | EB7: 0 | EC7: 0 | ED7: 0 | EE7: 0 | EF7: 0 | EG7: 1 | EH7: 1 | EI7: 2 | EJ7: 1 | EK7: 1 | EL7: 0 | EM7: 3 | EN7: 1 | EO7: 2 | EP7: 1 | EQ7: 2 | ER7: 2 | ES7: 1 | ET7: 0 | EU7: 0 | EV7: 0 | EW7: 0 | EX7: 0 | EY7: 0 | EZ7: 0 | FA7: 1 | FB7: 0 | FC7: 0 | FD7: 0 | FE7: 0 | FF7: 0 | FG7: 0 | FH7: 0 | FI7: 0 | FJ7: 0 | FK7: 0 | FL7: 1 | FM7: 1 | FN7: 1 | FO7: 0 | FP7: 0 | FQ7: 0 | FR7: 0 | FS7: 0 | FT7: 0 | FU7: 0 | FV7: 1 | FW7: 1 | FX7: 2 | FY7: 1 | FZ7: 1 | GA7: 1 | GB7: 1 | GC7: 0 | GD7: 0 | GE7: 0 | GF7: 0 | GG7: 0 | GH7: 0 | GI7: 2 | GJ7: 1 | GK7: 2 | GL7: 1 | GM7: 0 | GN7: 0 | GO7: 0 | GP7: 0 | GQ7: 0 | GR7: 0 | GS7: 0 | GT7: 0 | GU7: 0 | GV7: 0 | GW7: 0 | GX7: 1 | GY7: 1 | GZ7: 1 | HA7: 1 | HB7: 0 | HC7: 0 | HD7: 0 | HE7: 0 | HF7: 0 | HG7: 0 | HH7: 0 | HI7: 1 | HJ7: 0 | HK7: 0 | HL7: 1 | HM7: 1 | HN7: 0 | HO7: 0 | HP7: 0 | HQ7: 0 | HR7: 0 | HS7: 1 | HT7: 1 | HU7: 1 | HV7: 0 | HW7: 1 | HX7: 1 | HY7: 1 | HZ7: 0 | IA7: 0 | IB7: 2 | IC7: 2 | ID7: 3 | IE7: 2 | IF7: 1 | IG7: 2 | IH7: 1 | II7: 0 | IJ7: 0 | IK7: 1 | IL7: 1 | IM7: 1 | IN7: 0 | IO7: 0 | IP7: 1 | IQ7: 0 | IR7: 0 | IS7: 1 | IT7: 1 | IU7: 2 | IV7: 1 | IW7: 0 | IX7: 0 | IY7: 0 | IZ7: 0 | JA7: 0 | JB7: 0 | JC7: 0 | JD7: 0 | JE7: 0 | JF7: 0 | JG7: 0 | JH7: 0 | JI7: 0 | JJ7: 1 | JK7: 0 | JL7: 1 | JM7: 1 | JN7: 0 | JO7: 1 | JP7: 1 | JQ7: 1 | JR7: 0 | JS7: 0 | JT7: 0 | JU7: 1 | JV7: 1 | JW7: 0 | JX7: 1 | JY7: 1 | JZ7: 2 | KA7: 2 | KB7: 2 | KC7: 1 | KD7: 0 | KE7: 0 | KF7: 1 | KG7: 2 | KH7: 1 | KI7: 0 | KJ7: 1 | KK7: 2 | KL7: 0 | KM7: 0 | KN7: 0 | KO7: 0 | KP7: 0 | KQ7: 0 | KR7: 0 | KS7: 0 | KT7: 1 | KU7: 2 | KV7: 1 | KW7: 1 | KX7: 4 | KY7: 0 | KZ7: 0 | LA7: 0 | LB7: 0 | LC7: 0 | LD7: 0 | LE7: 0 | LF7: 1 | LG7: 1 | LH7: 0 | LI7: 0 | LJ7: 0 | LK7: 0 | LL7: 0 | LM7: 1 | LN7: 0 | LO7: 0 | LP7: 1 | LQ7: 0 | LR7: 0 | LS7: 0 | LT7: 0 | LU7: 0 | LV7: 0 | LW7: 0 | LX7: 1 | LY7: 0 | LZ7: 0 | MA7: 1 | MB7: 0 | MC7: 0 | MD7: 0 | ME7: 0 | MF7: 0 | MG7: 1 | MH7: 0 | MI7: 0 | MJ7: 0 | MK7: 0 | ML7: 0 | MM7: 0 | MN7: 0 | MO7: 0 | MP7: 0 | MQ7: 0 | MR7: 0 | MS7: 0 | MT7: 1 | MU7: 0 | MV7: 1 | MW7: 0 | MX7: 0 | MY7: 0 | MZ7: 0 | NA7: 0 | NB7: 0 | NC7: 0 | ND7: 0 | NE7: 0 | NF7: 0 | NG7: 0 | NH7: 0 | NI7: 0 | NJ7: 0 | NK7: 0 | NL7: 1 | NM7: 1 | NN7: 0 | NO7: 1 | NP7: 0 | NQ7: 0 | NR7: 0 | NS7: 0 | NT7: 0 | NU7: 0 | NV7: 0 | NW7: 0 | NX7: 0 | NY7: 1 | NZ7: 0 | OA7: 0 | OB7: 0 | OC7: 0 | OD7: 0 | OE7: 1 | OF7: 0 | OG7: 0 | OH7: 0 | OI7: 0 | OJ7: 0 | OK7: 0 | OL7: 0 | OM7: 0 | ON7: 0 | OO7: 0 | OP7: 0 | OQ7: 0 | OR7: 0 | OS7: 0 | OT7: 0 | OU7: 0 | OV7: 1 | OW7: 5 | OX7: 2 | OY7: 0 | OZ7: 0 | PA7: 0 | PB7: 0 | PC7: 1 | PD7: 1 | PE7: 0 | PF7: 0 | PG7: 1 | PH7: 0 | PI7: 1 | PJ7: 0 | PK7: 0 | PL7: 0 | PM7: 0 | PN7: 0 | PO7: 0 | PP7: 0 | PQ7: 0 | PR7: 0 | PS7: 0 | PT7: 0 | PU7: 0 | PV7: 0 | PW7: 0 | PX7: 0 | PY7: 0 | PZ7: 0 | QA7: 0 | QB7: 0 | QC7: 0 | QD7: 0 | QE7: 0 | QF7: 0 | QG7: 0 | QH7: 0 | QI7: 1 | QJ7: 0 | QK7: 0 | QL7: 0 | QM7: 0 | QN7: 0 | QO7: 0 | QP7: 1 | QQ7: 0 | QR7: 0 | QS7: 0 | QT7: 0 | QU7: 0 | QV7: 0 | QW7: 1 | QX7: 0 | QY7: 0 | QZ7: 0 | RA7: 0 | RB7: 0 | RC7: 0 | RD7: 0 | RE7: 0 | RF7: 0 | RG7: 0 | RH7: 0 | RI7: 0 | RJ7: 0 | RK7: 0 | RL7: 0 | RM7: 1 | RN7: 0 | RO7: 0 | RP7: 0 | RQ7: 0 | RR7: 0 | RS7: 1 | RT7: 1 | RU7: 2 | RV7: 5 | RW7: 1 | RX7: 0 | RY7: 0 | RZ7: 0 | SA7: 11 | SB7: 2 | SC7: 0 | SD7: 0 | SE7: 0 | SF7: 0 | SG7: 2 | SH7: 1 | SI7: 3 | SJ7: 1 | SK7: 2 | SL7: 1 | SM7: 1 | SN7: 0 | SO7: 1 | SP7: 1 | SQ7: 1 | SR7: 1 | SS7: 0 | ST7: 0 | SU7: 0 | SV7: 0 | SW7: 0 | SX7: 0 | SY7: 1 | SZ7: 0 | TA7: 1 | TB7: 0 | TC7: 0 | TD7: 0 | TE7: 0 | TF7: 1 | TG7: 1 | TH7: 3 | TI7: 2 | TJ7: 1 | TK7: 1 | TL7: 0 | TM7: 0 | TN7: 0 | TO7: 1 | TP7: 1 | TQ7: 0 | TR7: 0 | TS7: 0 | TT7: 0 | TU7: 0 | TV7: 0 | TW7: 0 | TX7: 1 | TY7: 0 | TZ7: 0 | UA7: 1 | UB7: 1 | UC7: 1 | UD7: 6 | UE7: 5 | UF7: 4 | UG7: 1 | UH7: 1 | UI7: 2 | UJ7: 2 | UK7: 3 | UL7: 1 | UM7: 2 | UN7: 0 | UO7: 0 | UP7: 0 | UQ7: 0 | UR7: 0 | US7: 1 | UT7: 1 | UU7: 1 | UV7: 0 | UW7: 0 | UX7: 0 | UY7: 0 | UZ7: 0 | VA7: 1 | VB7: 2 | VC7: 2 | VD7: 1 | VE7: 1 | VF7: 1 | VG7: 4 | VH7: 2 | VI7: 0 | VJ7: 1 | VK7: 0 | VL7: 0 | VM7: 0 | VN7: 1 | VO7: 0 | VP7: 1 | VQ7: 1 | VR7: 1 | VS7: 0 | VT7: 0 | VU7: 0 | VV7: 0 | VW7: 0 | VX7: 0 | VY7: 0 | VZ7: 0 | WA7: 0 | WB7: 0 | WC7: 0 | WD7: 0 | WE7: 0 | WF7: 0 | WG7: 0 | WH7: 0 | WI7: 0 | WJ7: 0 | WK7: 0 | WL7: 0 | WM7: 0 | WN7: 0 | WO7: 0 | WP7: 0 | WQ7: 0 | WR7: 0 | WS7: 0 | WT7: 0 | WU7: 0 | WV7: 0 | WW7: 0 | WX7: 0 | WY7: 0 | WZ7: 0 | XA7: 0 | XB7: 0 | XC7: 0 | XD7: 0 | XE7: 0 | XF7: 0 | XG7: 0 | XH7: 0 | XI7: 0 | XJ7: 0 | XK7: 0 | XL7: 0 | XM7: 0 | XN7: 1 | XO7: 1 | XP7: 1 | XQ7: 1 | XR7: 0 | XS7: 0 | XT7: 0 | XU7: 0 | XV7: 0 | XW7: 1 | XX7: 1 | XY7: 1 | XZ7: 1 | YA7: 1 | YB7: 1 | YC7: 0 | YD7: 0 | YE7: 0 | YF7: 0 | YG7: 0 | YH7: 0 | YI7: 0 | YJ7: 0 | YK7: 0 | YL7: 0 | YM7: 2 | YN7: 0 | YO7: 0 | YP7: 1 | YQ7: 1 | YR7: 1 | YS7: 1 | YT7: 0 | YU7: 0 | YV7: 0 | YW7: 0 | YX7: 0 | YY7: 0 | YZ7: 0 | ZA7: 0 | ZB7: 1 | ZC7: 0 | ZD7: 0 | ZE7: 0 | ZF7: 0 | ZG7: 0 | ZH7: 1 | ZI7: 1 | ZJ7: 0 | ZK7: 0 | ZL7: 0 | ZM7: 0 | ZN7: 0 | ZO7: 0 | ZP7: 0 | ZQ7: 0 | ZR7: 0 | ZS7: 1 | ZT7: 0 | ZU7: 0 | ZV7: 0 | ZW7: 0 | ZX7: 0 | ZY7: 1 | ZZ7: 0 | AAA7: 0 | AAB7: 0 | AAC7: 0 | AAD7: 0 | AAE7: 0 | AAF7: 0 | AAG7: 0 | AAH7: 0 | AAI7: 0 | AAJ7: 1 | AAK7: 0 | AAL7: 0 | AAM7: 0 | AAN7: 0 | AAO7: 0 | AAP7: 0 | AAQ7: 1 | AAR7: 0 | AAS7: 0 | AAT7: 0 | AAU7: 0 | AAV7: 0 | AAW7: 0 | AAX7: 0 | AAY7: 1 | AAZ7: 1 | ABA7: 0 | ABB7: 0 | ABD7: 430 | ABF7: 726 | ABH7: 0 | ABI7: 0 | ABJ7: 0 | ABK7: 0 | ABL7: 0 | ABM7: 0 | ABN7: 0 | ABO7: 0 | ABP7: 0 | ABQ7: 0 | ABR7: 1 | ABS7: 0 | ABT7: 0 | ABU7: 0 | ABV7: 0 | ABW7: 1 | ABX7: 0 | ABY7: 0 | ABZ7: 0 | ACA7: 0 | ACB7: 0 | ACC7: 0 | ACD7: 0 | ACE7: 0 | ACF7: 0 | ACG7: 0 | ACH7: 0 | ACI7: 2 | ACJ7: 0 | ACK7: 0 | ACL7: 0 | ACM7: 0 | ACR7: 1 | ACS7: 0 | ACT7: 0 | ACU7: 0 | ACV7: 0 | ACW7: 0 | ACX7: 0 | ACY7: 1 | ACZ7: 1 | ADA7: 0 | ADB7: 0 | ADC7: 0 | ADD7: 0 | ADE7: 0 | ADF7: 0 | ADG7: 0 | ADH7: 0 | ADI7: 0 | ADJ7: 0 | ADK7: 0 | ADL7: 0 | ADM7: 0 | ADN7: 0 | ADO7: 0 | ADP7: 0 | ADQ7: 0 | ADR7: 0 | ADS7: 0 | ADT7: 0 | ADU7: 0 | ADV7: 0 | ADW7: 0 | ADX7: 0 | ADY7: 0 | ADZ7: 0 | AEA7: 0 | AEB7: 0 | AEC7: 0 | AED7: 0 | AEE7: 0 | AEF7: 0 | AEG7: 0 | AEH7: 0 | AEI7: 0 | AEJ7: 0 | AEK7: 0 | AEL7: 0 | AEM7: 0 | AEN7: 0 | AEO7: 1 | AEP7: 0 | AET7: 0 | AEU7: 0 | AEV7: 0 | AEW7: 0 | AEX7: 0 | AEY7: 0 | AEZ7: 0 | AFA7: 0 | AFB7: 0 | AFC7: 0 | AFD7: 0 | AFE7: 0 | AFF7: 0 | AFG7: 0 | AFH7: 1 | AFI7: 1 | AFJ7: 0 | AFK7: 0 | AFL7: 0 | AFM7: 0
B8: Sorex araneus | C8: Sara | D8: 2 | E8: 8 | F8: 5 | G8: 4 | H8: 9 | I8: 13 | J8: 6 | K8: 8 | L8: 5 | M8: 4 | N8: 21 | O8: 4 | P8: 3 | Q8: 3 | R8: 5 | S8: 9 | T8: 3 | U8: 1 | V8: 2 | W8: 1 | X8: 2 | Y8: 0 | AA8: 0 | AB8: 0 | AC8: 0 | AD8: 3 | AE8: 1 | AF8: 0 | AG8: 0 | AH8: 0 | AI8: 1 | AJ8: 0 | AK8: 0 | AL8: 0 | AM8: 0 | AN8: 0 | AO8: 0 | AP8: 0 | AQ8: 0 | AR8: 0 | AS8: 1 | AT8: 0 | AU8: 0 | AV8: 1 | AW8: 1 | AX8: 0 | AY8: 0 | AZ8: 0 | BA8: 1 | BB8: 2 | BC8: 7 | BD8: 0 | BE8: 0 | BF8: 0 | BG8: 0 | BH8: 0 | BI8: 0 | BJ8: 0 | BK8: 0 | BL8: 0 | BM8: 0 | BN8: 0 | BO8: 0 | BP8: 0 | BQ8: 0 | BR8: 0 | BS8: 0 | BT8: 0 | BU8: 1 | BV8: 0 | BW8: 0 | BX8: 1 | BY8: 2 | BZ8: 0 | CA8: 0 | CB8: 0 | CC8: 0 | CD8: 2 | CE8: 1 | CF8: 1 | CG8: 2 | CH8: 1 | CI8: 0 | CJ8: 2 | CK8: 1 | CL8: 0 | CM8: 0 | CN8: 0 | CO8: 0 | CP8: 0 | CQ8: 0 | CR8: 3 | CS8: 1 | CT8: 0 | CU8: 0 | CV8: 0 | CW8: 0 | CX8: 0 | CY8: 0 | CZ8: 0 | DA8: 0 | DB8: 0 | DC8: 1 | DD8: 3 | DE8: 3 | DF8: 3 | DG8: 0 | DH8: 3 | DI8: 0 | DJ8: 1 | DK8: 0 | DL8: 3 | DM8: 0 | DN8: 0 | DO8: 1 | DP8: 1 | DQ8: 1 | DR8: 0 | DS8: 0 | DT8: 0 | DU8: 2 | DV8: 1 | DW8: 3 | DX8: 7 | DY8: 2 | DZ8: 1 | EA8: 0 | EB8: 0 | EC8: 0 | ED8: 0 | EE8: 0 | EF8: 0 | EG8: 0 | EH8: 1 | EI8: 1 | EJ8: 2 | EK8: 0 | EL8: 1 | EM8: 1 | EN8: 2 | EO8: 2 | EP8: 0 | EQ8: 1 | ER8: 2 | ES8: 1 | ET8: 0 | EU8: 0 | EV8: 0 | EW8: 0 | EX8: 1 | EY8: 0 | EZ8: 1 | FA8: 4 | FB8: 1 | FC8: 1 | FD8: 0 | FE8: 0 | FF8: 0 | FG8: 0 | FH8: 0 | FI8: 0 | FJ8: 0 | FK8: 0 | FL8: 0 | FM8: 0 | FN8: 1 | FO8: 0 | FP8: 0 | FQ8: 0 | FR8: 0 | FS8: 0 | FT8: 0 | FU8: 0 | FV8: 1 | FW8: 1 | FX8: 1 | FY8: 0 | FZ8: 0 | GA8: 1 | GB8: 1 | GC8: 0 | GD8: 0 | GE8: 0 | GF8: 1 | GG8: 1 | GH8: 1 | GI8: 1 | GJ8: 1 | GK8: 3 | GL8: 0 | GM8: 0 | GN8: 0 | GO8: 0 | GP8: 2 | GQ8: 1 | GR8: 0 | GS8: 0 | GT8: 0 | GU8: 0 | GV8: 0 | GW8: 0 | GX8: 0 | GY8: 0 | GZ8: 0 | HA8: 0 | HB8: 0 | HC8: 0 | HD8: 0 | HE8: 0 | HF8: 0 | HG8: 0 | HH8: 1 | HI8: 1 | HJ8: 0 | HK8: 0 | HL8: 0 | HM8: 0 | HN8: 0 | HO8: 0 | HP8: 0 | HQ8: 0 | HR8: 5 | HS8: 2 | HT8: 2 | HU8: 3 | HV8: 1 | HW8: 2 | HX8: 1 | HY8: 2 | HZ8: 2 | IA8: 1 | IB8: 1 | IC8: 3 | ID8: 1 | IE8: 2 | IF8: 1 | IG8: 0 | IH8: 0 | II8: 0 | IJ8: 0 | IK8: 1 | IL8: 0 | IM8: 2 | IN8: 1 | IO8: 0 | IP8: 0 | IQ8: 0 | IR8: 0 | IS8: 1 | IT8: 1 | IU8: 1 | IV8: 0 | IW8: 1 | IX8: 0 | IY8: 0 | IZ8: 1 | JA8: 2 | JB8: 0 | JC8: 0 | JD8: 0 | JE8: 0 | JF8: 0 | JG8: 0 | JH8: 0 | JI8: 0 | JJ8: 1 | JK8: 0 | JL8: 0 | JM8: 1 | JN8: 0 | JO8: 0 | JP8: 0 | JQ8: 0 | JR8: 0 | JS8: 0 | JT8: 0 | JU8: 0 | JV8: 0 | JW8: 1 | JX8: 1 | JY8: 0 | JZ8: 0 | KA8: 0 | KB8: 0 | KC8: 1 | KD8: 0 | KE8: 0 | KF8: 0 | KG8: 0 | KH8: 0 | KI8: 1 | KJ8: 1 | KK8: 0 | KL8: 0 | KM8: 0 | KN8: 0 | KO8: 0 | KP8: 0 | KQ8: 0 | KR8: 0 | KS8: 0 | KT8: 1 | KU8: 0 | KV8: 2 | KW8: 0 | KX8: 0 | KY8: 0 | KZ8: 0 | LA8: 0 | LB8: 0 | LC8: 0 | LD8: 1 | LE8: 3 | LF8: 2 | LG8: 1 | LH8: 2 | LI8: 1 | LJ8: 0 | LK8: 0 | LL8: 1 | LM8: 0 | LN8: 0 | LO8: 0 | LP8: 3 | LQ8: 2 | LR8: 2 | LS8: 0 | LT8: 0 | LU8: 0 | LV8: 0 | LW8: 0 | LX8: 0 | LY8: 1 | LZ8: 1 | MA8: 0 | MB8: 0 | MC8: 0 | MD8: 0 | ME8: 0 | MF8: 1 | MG8: 0 | MH8: 0 | MI8: 0 | MJ8: 0 | MK8: 0 | ML8: 0 | MM8: 0 | MN8: 0 | MO8: 0 | MP8: 0 | MQ8: 0 | MR8: 0 | MS8: 0 | MT8: 1 | MU8: 0 | MV8: 0 | MW8: 0 | MX8: 0 | MY8: 0 | MZ8: 0 | NA8: 0 | NB8: 0 | NC8: 2 | ND8: 0 | NE8: 0 | NF8: 0 | NG8: 0 | NH8: 0 | NI8: 0 | NJ8: 0 | NK8: 2 | NL8: 4 | NM8: 0 | NN8: 0 | NO8: 0 | NP8: 0 | NQ8: 0 | NR8: 0 | NS8: 0 | NT8: 0 | NU8: 1 | NV8: 1 | NW8: 0 | NX8: 0 | NY8: 0 | NZ8: 0 | OA8: 0 | OB8: 0 | OC8: 0 | OD8: 0 | OE8: 0 | OF8: 0 | OG8: 0 | OH8: 0 | OI8: 0 | OJ8: 0 | OK8: 0 | OL8: 0 | OM8: 0 | ON8: 0 | OO8: 0 | OP8: 0 | OQ8: 0 | OR8: 0 | OS8: 0 | OT8: 0 | OU8: 0 | OV8: 0 | OW8: 1 | OX8: 0 | OY8: 0 | OZ8: 0 | PA8: 0 | PB8: 0 | PC8: 0 | PD8: 0 | PE8: 0 | PF8: 0 | PG8: 0 | PH8: 0 | PI8: 0 | PJ8: 0 | PK8: 0 | PL8: 0 | PM8: 0 | PN8: 0 | PO8: 0 | PP8: 0 | PQ8: 0 | PR8: 0 | PS8: 0 | PT8: 0 | PU8: 0 | PV8: 0 | PW8: 0 | PX8: 0 | PY8: 0 | PZ8: 0 | QA8: 0 | QB8: 0 | QC8: 0 | QD8: 0 | QE8: 0 | QF8: 0 | QG8: 0 | QH8: 0 | QI8: 0 | QJ8: 0 | QK8: 0 | QL8: 0 | QM8: 0 | QN8: 0 | QO8: 0 | QP8: 0 | QQ8: 0 | QR8: 0 | QS8: 0 | QT8: 0 | QU8: 0 | QV8: 0 | QW8: 0 | QX8: 0 | QY8: 0 | QZ8: 0 | RA8: 0 | RB8: 0 | RC8: 0 | RD8: 0 | RE8: 0 | RF8: 0 | RG8: 0 | RH8: 0 | RI8: 0 | RJ8: 1 | RK8: 1 | RL8: 6 | RM8: 19 | RN8: 11 | RO8: 0 | RP8: 1 | RQ8: 0 | RR8: 0 | RS8: 4 | RT8: 1 | RU8: 15 | RV8: 4 | RW8: 2 | RX8: 2 | RY8: 2 | RZ8: 1 | SA8: 17 | SB8: 3 | SC8: 0 | SD8: 0 | SE8: 0 | SF8: 0 | SG8: 3 | SH8: 0 | SI8: 3 | SJ8: 1 | SK8: 1 | SL8: 1 | SM8: 1 | SN8: 0 | SO8: 0 | SP8: 0 | SQ8: 0 | SR8: 1 | SS8: 0 | ST8: 0 | SU8: 0 | SV8: 0 | SW8: 0 | SX8: 0 | SY8: 0 | SZ8: 1 | TA8: 0 | TB8: 0 | TC8: 0 | TD8: 0 | TE8: 1 | TF8: 2 | TG8: 7 | TH8: 0 | TI8: 0 | TJ8: 1 | TK8: 0 | TL8: 0 | TM8: 0 | TN8: 0 | TO8: 0 | TP8: 0 | TQ8: 0 | TR8: 0 | TS8: 2 | TT8: 1 | TU8: 0 | TV8: 0 | TW8: 3 | TX8: 4 | TY8: 4 | TZ8: 2 | UA8: 1 | UB8: 1 | UC8: 0 | UD8: 0 | UE8: 2 | UF8: 3 | UG8: 0 | UH8: 0 | UI8: 2 | UJ8: 2 | UK8: 2 | UL8: 0 | UM8: 2 | UN8: 0 | UO8: 0 | UP8: 0 | UQ8: 0 | UR8: 0 | US8: 0 | UT8: 4 | UU8: 3 | UV8: 1 | UW8: 0 | UX8: 0 | UY8: 0 | UZ8: 0 | VA8: 1 | VB8: 0 | VC8: 0 | VD8: 0 | VE8: 0 | VF8: 0 | VG8: 1 | VH8: 2 | VI8: 0 | VJ8: 2 | VK8: 3 | VL8: 0 | VM8: 0 | VN8: 0 | VO8: 0 | VP8: 0 | VQ8: 0 | VR8: 0 | VS8: 1 | VT8: 0 | VU8: 0 | VV8: 0 | VW8: 0 | VX8: 0 | VY8: 0 | VZ8: 0 | WA8: 0 | WB8: 0 | WC8: 0 | WD8: 0 | WE8: 0 | WF8: 0 | WG8: 0 | WH8: 0 | WI8: 0 | WJ8: 0 | WK8: 0 | WL8: 0 | WM8: 0 | WN8: 0 | WO8: 0 | WP8: 0 | WQ8: 0 | WR8: 0 | WS8: 0 | WT8: 0 | WU8: 0 | WV8: 0 | WW8: 0 | WX8: 0 | WY8: 0 | WZ8: 0 | XA8: 0 | XB8: 0 | XC8: 0 | XD8: 0 | XE8: 0 | XF8: 0 | XG8: 0 | XH8: 0 | XI8: 0 | XJ8: 0 | XK8: 0 | XL8: 0 | XM8: 0 | XN8: 0 | XO8: 0 | XP8: 0 | XQ8: 1 | XR8: 0 | XS8: 0 | XT8: 0 | XU8: 0 | XV8: 1 | XW8: 1 | XX8: 2 | XY8: 0 | XZ8: 0 | YA8: 1 | YB8: 0 | YC8: 0 | YD8: 0 | YE8: 0 | YF8: 0 | YG8: 0 | YH8: 0 | YI8: 0 | YJ8: 0 | YK8: 0 | YL8: 0 | YM8: 1 | YN8: 0 | YO8: 0 | YP8: 0 | YQ8: 0 | YR8: 0 | YS8: 0 | YT8: 0 | YU8: 0 | YV8: 0 | YW8: 0 | YX8: 0 | YY8: 0 | YZ8: 0 | ZA8: 0 | ZB8: 0 | ZC8: 0 | ZD8: 1 | ZE8: 0 | ZF8: 0 | ZG8: 0 | ZH8: 0 | ZI8: 0 | ZJ8: 0 | ZK8: 0 | ZL8: 0 | ZM8: 0 | ZN8: 0 | ZO8: 0 | ZP8: 1 | ZQ8: 1 | ZR8: 0 | ZS8: 2 | ZT8: 1 | ZU8: 0 | ZV8: 0 | ZW8: 1 | ZX8: 0 | ZY8: 0 | ZZ8: 0 | AAA8: 0 | AAB8: 0 | AAC8: 0 | AAD8: 0 | AAE8: 0 | AAF8: 0 | AAG8: 0 | AAH8: 0 | AAI8: 0 | AAJ8: 0 | AAK8: 0 | AAL8: 0 | AAM8: 0 | AAN8: 0 | AAO8: 0 | AAP8: 0 | AAQ8: 0 | AAR8: 0 | AAS8: 0 | AAT8: 0 | AAU8: 1 | AAV8: 0 | AAW8: 0 | AAX8: 0 | AAY8: 0 | AAZ8: 0 | ABA8: 0 | ABB8: 0 | ABD8: 491 | ABF8: 726 | ABH8: 0 | ABI8: 0 | ABJ8: 0 | ABK8: 1 | ABL8: 0 | ABM8: 0 | ABN8: 0 | ABO8: 0 | ABP8: 1 | ABQ8: 0 | ABR8: 0 | ABS8: 0 | ABT8: 0 | ABU8: 0 | ABV8: 1 | ABW8: 0 | ABX8: 0 | ABY8: 1 | ABZ8: 0 | ACA8: 0 | ACB8: 0 | ACC8: 0 | ACD8: 1 | ACE8: 1 | ACF8: 0 | ACG8: 0 | ACH8: 0 | ACI8: 6 | ACJ8: 0 | ACK8: 0 | ACL8: 0 | ACM8: 0 | ACR8: 0 | ACS8: 0 | ACT8: 0 | ACU8: 1 | ACV8: 0 | ACW8: 0 | ACX8: 0 | ACY8: 1 | ACZ8: 1 | ADA8: 1 | ADB8: 1 | ADC8: 1 | ADD8: 0 | ADE8: 0 | ADF8: 0 | ADG8: 0 | ADH8: 0 | ADI8: 0 | ADJ8: 0 | ADK8: 0 | ADL8: 0 | ADM8: 0 | ADN8: 0 | ADO8: 0 | ADP8: 0 | ADQ8: 1 | ADR8: 1 | ADS8: 0 | ADT8: 0 | ADU8: 0 | ADV8: 0 | ADW8: 0 | ADX8: 0 | ADY8: 0 | ADZ8: 0 | AEA8: 0 | AEB8: 0 | AEC8: 0 | AED8: 0 | AEE8: 0 | AEF8: 0 | AEG8: 1 | AEH8: 0 | AEI8: 0 | AEJ8: 1 | AEK8: 1 | AEL8: 1 | AEM8: 1 | AEN8: 0 | AEO8: 0 | AEP8: 0 | AET8: 2 | AEU8: 0 | AEV8: 0 | AEW8: 0 | AEX8: 0 | AEY8: 1 | AEZ8: 0 | AFA8: 0 | AFB8: 1 | AFC8: 1 | AFD8: 1 | AFE8: 2 | AFF8: 0 | AFG8: 1 | AFH8: 3 | AFI8: 0 | AFJ8: 1 | AFK8: 1 | AFL8: 0 | AFM8: 0
