Workbook
Name javoříčkoV_1: List3!$A$1:$C$123
Name javoříčkoV_1aV_f3_zuby: List3!$A$402:$C$848
Name javoříčkoV_f3: List3!$A$124:$C$401

Sheet V1
A1: lokalita | B1: vrstva | C1: rod | D1: sp. | E1: číslo | F1: popis | G1: Lmd | H1: im3 | I1: cm3 | J1: p4m3 | K1: m1m3 | L1: cp4 | M1: p4m1 | N1: m1m2 | O1: m2m3 | P1: p2p3 | Q1: symf.L | R1: symf.W | S1: Vmd(m1) | T1: Vmd(m2) | U1: CrH | V1: CrL | W1: i1L | X1: i1W | Y1: i2L | Z1: i2W | AA1: i3L | AB1: i3W | AC1: cH | AD1: cL | AE1: cW | AF1: p2L | AG1: p2W | AH1: p3L | AI1: p3W | AJ1: p4L | AK1: p4W1 | AL1: p4W2 | AM1: m1L | AN1: m1tlL | AO1: m1trW | AP1: m1tlW | AQ1: m2L | AR1: m2tlL | AS1: m2trW | AT1: m2tlW | AU1: m3L | AV1: m3tlL | AW1: m3trW | AX1: m3tlW | AZ1: I1M3 | BA1: CM3 | BB1: P4M3 | BC1: M1M3 | BD1: M2M3 | BE1: M1M2 | BF1: P4M1 | BG1: CM1 | BH1: P2P3 | BI1: I1L | BJ1: I1W | BK1: I2L | BL1: I2W | BM1: CH | BN1: CL | BO1: CW | BP1: P2L | BQ1: P2W | BR1: P3L | BS1: P3W | BT1: P4L | BU1: P4W1 | BV1: P4W2 | BW1: P4W3 | BX1: M1L | BY1: M1W1 | BZ1: M1W2 | CA1: M1W3 | CB1: M2L | CC1: M2W1 | CD1: M2W2 | CE1: M2W3 | CF1: M3L | CG1: M3W1 | CH1: M3W2 | CI1: M3W3
A2: Javoříčko | B2: V/1 | C2: Myotis | D2: emarginatus | E2: 1 | F2: md:i3-m2 | L2: 3.28 | M2: 2.47 | N2: 2.97 | P2: 1.4 | R2: 0.92 | S2: 1.66 | T2: 1.64 | AA2: 0.66 | AB2: 0.48 | AC2: 1.4 | AD2: 1.06 | AE2: 0.81 | AF2: 0.83 | AG2: 0.68 | AH2: 0.66 | AI2: 0.59 | AJ2: 1.06 | AK2: 0.68 | AL2: 0.71 | AM2: 1.57 | AN2: 0.73 | AO2: 0.85 | AP2: 0.93 | AS2: 0.94 | AT2: 0.94
A3: Javoříčko | B3: V/1 | C3: Myotis | D3: emarginatus | E3: 2 | F3: md:(c-p3)p4-m3 | I3: 7.03 | J3: 5.12 | K3: 4.28 | L3: 2.95 | M3: 2.42 | N3: 3 | O3: 2.86 | P3: 1.12 | R3: 1.04 | S3: 1.85 | T3: 1.82 | AD3: 0.69 | AE3: 0.61 | AF3: 0.53 | AG3: 0.47 | AH3: 0.51 | AI3: 0.4 | AJ3: 0.99 | AK3: 0.56 | AL3: 0.67 | AM3: 1.53 | AN3: 0.7 | AO3: 0.83 | AP3: 0.95 | AQ3: 1.5 | AR3: 0.68 | AS3: 0.89 | AT3: 0.95 | AU3: 1.4 | AV3: 0.6 | AW3: 0.85 | AX3: 0.72
A4: Javoříčko | B4: V/1 | C4: Myotis | D4: emarginatus | E4: 3 | F4: md:i1-p2(p3) | P4: 1.3 | Q4: 2.74 | R4: 1.01 | W4: 0.34 | X4: 0.17 | Y4: 0.54 | Z4: 0.3 | AA4: 0.61 | AB4: 0.47 | AC4: 1.57 | AD4: 1.11 | AE4: 0.9 | AF4: 0.84 | AG4: 0.7 | AH4: 0.47 | AI4: 0.47
F5: počet | I5: =COUNT(I2:I4) -> 1 | J5: =COUNT(J2:J4) -> 1 | K5: =COUNT(K2:K4) -> 1 | L5: =COUNT(L2:L4) -> 2 | M5: =COUNT(M2:M4) -> 2 | N5: =COUNT(N2:N4) -> 2 | O5: =COUNT(O2:O4) -> 1 | P5: =COUNT(P2:P4) -> 3 | ... T5: =COUNT(T2:T4) -> 2 | W5: =COUNT(W2:W4) -> 1 | X5: =COUNT(X2:X4) -> 1 | Y5: =COUNT(Y2:Y4) -> 1 | Z5: =COUNT(Z2:Z4) -> 1 | AA5: =COUNT(AA2:AA4) -> 2 | AB5: =COUNT(AB2:AB4) -> 2 | AC5: =COUNT(AC2:AC4) -> 2 | AD5: =COUNT(AD2:AD4) -> 3 | ... AX5: =COUNT(AX2:AX4) -> 1
F6: průměr | I6: =AVERAGE(I2:I4) -> 7.03 | J6: =AVERAGE(J2:J4) -> 5.12 | K6: =AVERAGE(K2:K4) -> 4.28 | L6: =AVERAGE(L2:L4) -> 3.115 | M6: =AVERAGE(M2:M4) -> 2.445 | N6: =AVERAGE(N2:N4) -> 2.985 | O6: =AVERAGE(O2:O4) -> 2.86 | P6: =AVERAGE(P2:P4) -> 1.2733333 | ... T6: =AVERAGE(T2:T4) -> 1.73 | W6: =AVERAGE(W2:W4) -> 0.34 | X6: =AVERAGE(X2:X4) -> 0.17 | Y6: =AVERAGE(Y2:Y4) -> 0.54 | Z6: =AVERAGE(Z2:Z4) -> 0.3 | AA6: =AVERAGE(AA2:AA4) -> 0.635 | AB6: =AVERAGE(AB2:AB4) -> 0.475 | AC6: =AVERAGE(AC2:AC4) -> 1.485 | AD6: =AVERAGE(AD2:AD4) -> 0.95333333 | ... AX6: =AVERAGE(AX2:AX4) -> 0.72
F7: směr.odchylka | L7: =STDEVP(L2:L4) -> 0.165 | M7: =STDEVP(M2:M4) -> 0.025 | N7: =STDEVP(N2:N4) -> 0.015 | P7: =STDEVP(P2:P4) -> 0.11585431 | R7: =STDEVP(R2:R4) -> 0.050990195 | S7: =STDEVP(S2:S4) -> 0.095 | T7: =STDEVP(T2:T4) -> 0.09 | AA7: =STDEVP(AA2:AA4) -> 0.025 | AB7: =STDEVP(AB2:AB4) -> 0.005 | AC7: =STDEVP(AC2:AC4) -> 0.085 | AD7: =STDEVP(AD2:AD4) -> 0.18732028 | AE7: =STDEVP(AE2:AE4) -> 0.12119773 | AF7: =STDEVP(AF2:AF4) -> 0.14383633 | AG7: =STDEVP(AG2:AG4) -> 0.10402991 | AH7: =STDEVP(AH2:AH4) -> 0.081785628 | ... AP7: =STDEVP(AP2:AP4) -> 0.01 | AS7: =STDEVP(AS2:AS4) -> 0.025 | AT7: =STDEVP(AT2:AT4) -> 0.005
F8: min | I8: =MIN(I2:I4) -> 7.03 | J8: =MIN(J2:J4) -> 5.12 | K8: =MIN(K2:K4) -> 4.28 | L8: =MIN(L2:L4) -> 2.95 | M8: =MIN(M2:M4) -> 2.42 | N8: =MIN(N2:N4) -> 2.97 | O8: =MIN(O2:O4) -> 2.86 | P8: =MIN(P2:P4) -> 1.12 | ... T8: =MIN(T2:T4) -> 1.64 | W8: =MIN(W2:W4) -> 0.34 | X8: =MIN(X2:X4) -> 0.17 | Y8: =MIN(Y2:Y4) -> 0.54 | Z8: =MIN(Z2:Z4) -> 0.3 | AA8: =MIN(AA2:AA4) -> 0.61 | AB8: =MIN(AB2:AB4) -> 0.47 | AC8: =MIN(AC2:AC4) -> 1.4 | AD8: =MIN(AD2:AD4) -> 0.69 | ... AX8: =MIN(AX2:AX4) -> 0.72
F9: max | I9: =MAX(I2:I4) -> 7.03 | J9: =MAX(J2:J4) -> 5.12 | K9: =MAX(K2:K4) -> 4.28 | L9: =MAX(L2:L4) -> 3.28 | M9: =MAX(M2:M4) -> 2.47 | N9: =MAX(N2:N4) -> 3 | O9: =MAX(O2:O4) -> 2.86 | P9: =MAX(P2:P4) -> 1.4 | ... T9: =MAX(T2:T4) -> 1.82 | W9: =MAX(W2:W4) -> 0.34 | X9: =MAX(X2:X4) -> 0.17 | Y9: =MAX(Y2:Y4) -> 0.54 | Z9: =MAX(Z2:Z4) -> 0.3 | AA9: =MAX(AA2:AA4) -> 0.66 | AB9: =MAX(AB2:AB4) -> 0.48 | AC9: =MAX(AC2:AC4) -> 1.57 | AD9: =MAX(AD2:AD4) -> 1.11 | ... AX9: =MAX(AX2:AX4) -> 0.72
F10: šikmost | P10: =SKEW(P2:P4) -> -0.81584309 | R10: =SKEW(R2:R4) -> -1.2933428 | AD10: =SKEW(AD2:AD4) -> -1.6399566 | AE10: =SKEW(AE2:AE4) -> -1.0437604 | AF10: =SKEW(AF2:AF4) -> -1.725774 | AG10: =SKEW(AG2:AG4) -> -1.6841605 | AH10: =SKEW(AH2:AH4) -> 1.4265281 | AI10: =SKEW(AI2:AI4) -> 0.75703511
F11: špičatost
F12: rozptyl | L12: =VARP(L2:L4) -> 0.027225 | M12: =VARP(M2:M4) -> 0.000625 | N12: =VARP(N2:N4) -> 0.000225 | P12: =VARP(P2:P4) -> 0.013422222 | R12: =VARP(R2:R4) -> 0.0026 | S12: =VARP(S2:S4) -> 0.009025 | T12: =VARP(T2:T4) -> 0.0081 | AA12: =VARP(AA2:AA4) -> 0.000625 | AB12: =VARP(AB2:AB4) -> 2.5e-05 | AC12: =VARP(AC2:AC4) -> 0.007225 | AD12: =VARP(AD2:AD4) -> 0.035088889 | AE12: =VARP(AE2:AE4) -> 0.014688889 | AF12: =VARP(AF2:AF4) -> 0.020688889 | AG12: =VARP(AG2:AG4) -> 0.010822222 | AH12: =VARP(AH2:AH4) -> 0.0066888889 | ... AP12: =VARP(AP2:AP4) -> 0.0001 | AS12: =VARP(AS2:AS4) -> 0.000625 | AT12: =VARP(AT2:AT4) -> 2.5e-05

Sheet Vf3
A1: lokalita | B1: vrstva | C1: rod | D1: sp. | E1: číslo | F1: popis | G1: Lmd | H1: im3 | I1: cm3 | J1: p4m3 | K1: m1m3 | L1: cp4 | M1: p4m1 | N1: m1m2 | O1: m2m3 | P1: p2p3 | Q1: symf.L | R1: symf.W | S1: Vmd(m1) | T1: Vmd(m2) | U1: CrH | V1: CrL | W1: i1L | X1: i1W | Y1: i2L | Z1: i2W | AA1: i3L | AB1: i3W | AC1: cH | AD1: cL | AE1: cW | AF1: p2L | AG1: p2W | AH1: p3L | AI1: p3W | AJ1: p4L | AK1: p4W1 | AL1: p4W2 | AM1: m1L | AN1: m1tlL | AO1: m1trW | AP1: m1tlW | AQ1: m2L | AR1: m2tlL | AS1: m2trW | AT1: m2tlW | AU1: m3L | AV1: m3tlL | AW1: m3trW | AX1: m3tlW | AZ1: I1M3 | BA1: CM3 | BB1: P4M3 | BC1: M1M3 | BD1: M2M3 | BE1: M1M2 | BF1: P4M1 | BG1: CM1 | BH1: P2P3 | BI1: I1L | BJ1: I1W | BK1: I2L | BL1: I2W | BM1: CH | BN1: CL | BO1: CW | BP1: P2L | BQ1: P2W | BR1: P3L | BS1: P3W | BT1: P4L | BU1: P4W1 | BV1: P4W2 | BW1: P4W3 | BX1: M1L | BY1: M1W1 | BZ1: M1W2 | CA1: M1W3 | CB1: M2L | CC1: M2W1 | CD1: M2W2 | CE1: M2W3 | CF1: M3L | CG1: M3W1 | CH1: M3W2 | CI1: M3W3
A2: Javoříčko | B2: V/f3 | C2: Myotis | D2: emarginatus | E2: 1 | F2: md:(i1-p3)p4-m3 | H2: 7.81 | I2: 6.84 | J2: 4.92 | K2: 4.08 | L2: 2.92 | M2: 2.27 | N2: 2.85 | O2: 2.73 | P2: 1.01 | Q2: 2.83 | R2: 0.99 | S2: 1.84 | T2: 1.79 | AD2: 0.83 | AE2: 0.49 | AF2: 0.5 | AG2: 0.42 | AH2: 0.45 | AI2: 0.37 | AJ2: 0.97 | AK2: 0.63 | AL2: 0.7 | AM2: 1.48 | AN2: 0.68 | AO2: 0.85 | AP2: 0.97 | AQ2: 1.43 | AR2: 0.62 | AS2: 0.91 | AT2: 0.99 | AU2: 1.37 | AV2: 0.6 | AW2: 0.87 | AX2: 0.75
A3: Javoříčko | B3: V/f3 | C3: Myotis | D3: emarginatus | E3: 2 | F3: md:('c)p2-m2 | L3: 3.07 | M3: 2.41 | N3: 2.86 | P3: 1.48 | R3: 0.92 | S3: 1.96 | T3: 1.91 | AD3: 0.73 | AE3: 0.4 | AF3: 0.78 | AG3: 0.58 | AH3: 0.68 | AI3: 0.55 | AJ3: 0.93 | AK3: 0.61 | AL3: 0.62 | AO3: 0.75 | AQ3: 1.44 | AR3: 0.71 | AS3: 0.76 | AT3: 0.76
A4: Javoříčko | B4: V/f3 | C4: Myotis | D4: emarginatus | E4: 3 | F4: md:(i2-p3)p4-m1(m2-m3) | I4: 5.83 | J4: 4.18 | K4: 3.56 | L4: 2.38 | M4: 1.91 | N4: 2.43 | O4: 2.28 | P4: 0.91 | R4: 0.76 | S4: 1.44 | T4: 1.43 | AD4: 0.49 | AE4: 0.37 | AF4: 0.42 | AG4: 0.36 | AH4: 0.44 | AI4: 0.33 | AJ4: 0.71 | AK4: 0.52 | AL4: 0.6 | AM4: 1.29 | AN4: 0.6 | AO4: 0.73 | AP4: 0.82
A5: Javoříčko | B5: V/f3 | C5: Myotis | D5: emarginatus | E5: 4 | F5: md:(i1-i3)c(p2)p3-m1 | L5: 2.7 | M5: 2.15 | P5: 1.04 | AC5: 1.12 | AD5: 0.91 | AE5: 0.75 | AF5: 0.39 | AG5: 0.34 | AH5: 0.57 | AI5: 0.59 | AJ5: 0.92 | AK5: 0.62 | AL5: 0.65 | AM5: 1.39 | AN5: 0.63 | AO5: 0.83 | AP5: 0.89
A6: Javoříčko | B6: V/f3 | C6: Myotis | D6: emarginatus | E6: 5 | F6: md:(i1-p2)p3-m3 | H6: 8.21 | I6: 7.07 | J6: 5.2 | K6: 4.4 | L6: 2.83 | M6: 2.32 | N6: 3 | O6: 2.94 | P6: 1.07 | Q6: 2.81 | R6: 1.11 | S6: 1.95 | T6: 1.95 | AD6: 0.74 | AE6: 0.53 | AF6: 0.54 | AG6: 0.46 | AH6: 0.62 | AI6: 0.63 | AJ6: 0.91 | AK6: 0.75 | AL6: 0.81 | AM6: 1.52 | AN6: 0.68 | AO6: 1.03 | AP6: 1.11 | AQ6: 1.58 | AR6: 0.74 | AS6: 1.04 | AT6: 1.12 | AU6: 1.44 | AV6: 0.63 | AW6: 0.97 | AX6: 0.79
A7: Javoříčko | B7: V/f3 | C7: Myotis | D7: emarginatus | E7: 6 | F7: md:(i1-i3)c-m1 | L7: 3.17 | M7: 2.42 | P7: 1.46 | S7: 1.82 | AC7: 1.57 | AD7: 0.93 | AE7: 0.88 | AF7: 0.83 | AG7: 0.72 | AH7: 0.68 | AI7: 0.63 | AJ7: 0.96 | AK7: 0.69 | AL7: 0.74 | AM7: 1.51 | AN7: 0.7 | AO7: 0.89 | AP7: 0.95
A8: Javoříčko | B8: V/f3 | C8: Myotis | D8: emarginatus | E8: 7 | F8: md:p4-m2 | M8: 2.35 | N8: 2.88 | S8: 1.8 | AH8: 0.44 | AI8: 0.44 | AJ8: 0.96 | AK8: 0.58 | AL8: 0.68 | AM8: 1.5 | AN8: 0.71 | AO8: 0.86 | AP8: 0.91 | AQ8: 1.47 | AR8: 0.72 | AS8: 0.93 | AT8: 0.9
A9: Javoříčko | B9: V/f3 | C9: Myotis | D9: emarginatus | E9: 8 | F9: m2 | AQ9: 2.35 | AR9: 1.15 | AS9: 1.38 | AT9: 1.44
A10: Javoříčko | B10: V/f3 | C10: Myotis | D10: emarginatus | E10: 9 | F10: m3 | AU10: 2.13 | AV10: 1.05 | AW10: 1.36 | AX10: 1.14
F11: počet | H11: =COUNT(H2:H10) -> 2 | I11: =COUNT(I2:I10) -> 3 | J11: =COUNT(J2:J10) -> 3 | K11: =COUNT(K2:K10) -> 3 | L11: =COUNT(L2:L10) -> 6 | M11: =COUNT(M2:M10) -> 7 | N11: =COUNT(N2:N10) -> 5 | O11: =COUNT(O2:O10) -> 3 | ... T11: =COUNT(T2:T10) -> 4 | AC11: =COUNT(AC2:AC10) -> 2 | AD11: =COUNT(AD2:AD10) -> 6 | AE11: =COUNT(AE2:AE10) -> 6 | AF11: =COUNT(AF2:AF10) -> 6 | AG11: =COUNT(AG2:AG10) -> 6 | AH11: =COUNT(AH2:AH10) -> 7 | AI11: =COUNT(AI2:AI10) -> 7 | AJ11: =COUNT(AJ2:AJ10) -> 7 | ... AX11: =COUNT(AX2:AX10) -> 3
F12: průměr | H12: =AVERAGE(H2:H10) -> 8.01 | I12: =AVERAGE(I2:I10) -> 6.58 | J12: =AVERAGE(J2:J10) -> 4.7666667 | K12: =AVERAGE(K2:K10) -> 4.0133333 | L12: =AVERAGE(L2:L10) -> 2.845 | M12: =AVERAGE(M2:M10) -> 2.2614286 | N12: =AVERAGE(N2:N10) -> 2.804 | O12: =AVERAGE(O2:O10) -> 2.65 | ... T12: =AVERAGE(T2:T10) -> 1.77 | AC12: =AVERAGE(AC2:AC10) -> 1.345 | AD12: =AVERAGE(AD2:AD10) -> 0.77166667 | AE12: =AVERAGE(AE2:AE10) -> 0.57 | AF12: =AVERAGE(AF2:AF10) -> 0.57666667 | AG12: =AVERAGE(AG2:AG10) -> 0.48 | AH12: =AVERAGE(AH2:AH10) -> 0.55428571 | AI12: =AVERAGE(AI2:AI10) -> 0.50571429 | AJ12: =AVERAGE(AJ2:AJ10) -> 0.90857143 | ... AX12: =AVERAGE(AX2:AX10) -> 0.89333333
F13: směr.odchylka | H13: =STDEVP(H2:H10) -> 0.2 | I13: =STDEVP(I2:I10) -> 0.53857838 | J13: =STDEVP(J2:J10) -> 0.43029706 | K13: =STDEVP(K2:K10) -> 0.34615347 | L13: =STDEVP(L2:L10) -> 0.25798902 | M13: =STDEVP(M2:M10) -> 0.16668435 | N13: =STDEVP(N2:N10) -> 0.19458674 | O13: =STDEVP(O2:O10) -> 0.275318 | ... T13: =STDEVP(T2:T10) -> 0.20493902 | AC13: =STDEVP(AC2:AC10) -> 0.225 | AD13: =STDEVP(AD2:AD10) -> 0.14701663 | AE13: =STDEVP(AE2:AE10) -> 0.18502252 | AF13: =STDEVP(AF2:AF10) -> 0.16937795 | AG13: =STDEVP(AG2:AG10) -> 0.13266499 | AH13: =STDEVP(AH2:AH10) -> 0.10224021 | AI13: =STDEVP(AI2:AI10) -> 0.11561724 | AJ13: =STDEVP(AJ2:AJ10) -> 0.083739148 | ... AX13: =STDEVP(AX2:AX10) -> 0.17518244
F14: min | H14: =MIN(H2:H10) -> 7.81 | I14: =MIN(I2:I10) -> 5.83 | J14: =MIN(J2:J10) -> 4.18 | K14: =MIN(K2:K10) -> 3.56 | L14: =MIN(L2:L10) -> 2.38 | M14: =MIN(M2:M10) -> 1.91 | N14: =MIN(N2:N10) -> 2.43 | O14: =MIN(O2:O10) -> 2.28 | ... T14: =MIN(T2:T10) -> 1.43 | AC14: =MIN(AC2:AC10) -> 1.12 | AD14: =MIN(AD2:AD10) -> 0.49 | AE14: =MIN(AE2:AE10) -> 0.37 | AF14: =MIN(AF2:AF10) -> 0.39 | AG14: =MIN(AG2:AG10) -> 0.34 | AH14: =MIN(AH2:AH10) -> 0.44 | AI14: =MIN(AI2:AI10) -> 0.33 | AJ14: =MIN(AJ2:AJ10) -> 0.71 | ... AX14: =MIN(AX2:AX10) -> 0.75
F15: max | H15: =MAX(H2:H10) -> 8.21 | I15: =MAX(I2:I10) -> 7.07 | J15: =MAX(J2:J10) -> 5.2 | K15: =MAX(K2:K10) -> 4.4 | L15: =MAX(L2:L10) -> 3.17 | M15: =MAX(M2:M10) -> 2.42 | N15: =MAX(N2:N10) -> 3 | O15: =MAX(O2:O10) -> 2.94 | ... T15: =MAX(T2:T10) -> 1.95 | AC15: =MAX(AC2:AC10) -> 1.57 | AD15: =MAX(AD2:AD10) -> 0.93 | AE15: =MAX(AE2:AE10) -> 0.88 | AF15: =MAX(AF2:AF10) -> 0.83 | AG15: =MAX(AG2:AG10) -> 0.72 | AH15: =MAX(AH2:AH10) -> 0.68 | AI15: =MAX(AI2:AI10) -> 0.63 | AJ15: =MAX(AJ2:AJ10) -> 0.97 | ... AX15: =MAX(AX2:AX10) -> 1.14
F16: šikmost | I16: =SKEW(I2:I10) -> -1.4981648 | J16: =SKEW(J2:J10) -> -1.1984519 | K16: =SKEW(K2:K10) -> -0.69013285 | L16: =SKEW(L2:L10) -> -0.76362672 | M16: =SKEW(M2:M10) -> -1.4642676 | N16: =SKEW(N2:N10) -> -1.7833983 | O16: =SKEW(O2:O10) -> -1.0075382 | P16: =SKEW(P2:P10) -> 0.75185127 | R16: =SKEW(R2:R10) -> -0.37653223 | S16: =SKEW(S2:S10) -> -1.7619712 | T16: =SKEW(T2:T10) -> -1.5454249 | AD16: =SKEW(AD2:AD10) -> -1.1229495 | AE16: =SKEW(AE2:AE10) -> 0.79750884 | AF16: =SKEW(AF2:AF10) -> 0.64885424 | AG16: =SKEW(AG2:AG10) -> 0.98992907 | AH16: =SKEW(AH2:AH10) -> 0.024545952 | AI16: =SKEW(AI2:AI10) -> -0.44130232 | AJ16: =SKEW(AJ2:AJ10) -> -2.3065469 | AK16: =SKEW(AK2:AK10) -> 0.35375779 | ... AX16: =SKEW(AX2:AX10) -> 1.6645697
F17: špičatost | L17: =KURT(L2:L10) -> 0.43774354 | M17: =KURT(M2:M10) -> 1.9728459 | N17: =KURT(N2:N10) -> 3.7676033 | P17: =KURT(P2:P10) -> -1.7702456 | R17: =KURT(R2:R10) -> 0.49706363 | S17: =KURT(S2:S10) -> 3.6280641 | T17: =KURT(T2:T10) -> 2.2285714 | AD17: =KURT(AD2:AD10) -> 1.3508001 | AE17: =KURT(AE2:AE10) -> -0.95563647 | AF17: =KURT(AF2:AF10) -> -1.7134064 | AG17: =KURT(AG2:AG10) -> 0.062413912 | AH17: =KURT(AH2:AH10) -> -2.3321186 | AI17: =KURT(AI2:AI10) -> -1.864261 | AJ17: =KURT(AJ2:AJ10) -> 5.6393467 | AK17: =KURT(AK2:AK10) -> 0.37502215 | ... AT17: =KURT(AT2:AT10) -> 0.9482167
F18: rozptyl | H18: =VARP(H2:H10) -> 0.04 | I18: =VARP(I2:I10) -> 0.29006667 | J18: =VARP(J2:J10) -> 0.18515556 | K18: =VARP(K2:K10) -> 0.11982222 | L18: =VARP(L2:L10) -> 0.066558333 | M18: =VARP(M2:M10) -> 0.027783673 | N18: =VARP(N2:N10) -> 0.037864 | O18: =VARP(O2:O10) -> 0.0758 | ... T18: =VARP(T2:T10) -> 0.042 | AC18: =VARP(AC2:AC10) -> 0.050625 | AD18: =VARP(AD2:AD10) -> 0.021613889 | AE18: =VARP(AE2:AE10) -> 0.034233333 | AF18: =VARP(AF2:AF10) -> 0.028688889 | AG18: =VARP(AG2:AG10) -> 0.0176 | AH18: =VARP(AH2:AH10) -> 0.010453061 | AI18: =VARP(AI2:AI10) -> 0.013367347 | AJ18: =VARP(AJ2:AJ10) -> 0.0070122449 | ... AX18: =VARP(AX2:AX10) -> 0.030688889

Sheet List3
A2: Date & time: | B2: 11.1 | C2: 42005.5
A3: ------------ | B3: ----- | C3: -----------------------
A5: Outline cont | B5: ours | C5: will be traced counter clockwise.
A7: Input file: | B7: C:\Us | C7: ers\Eva\Documents\DIPLOMKA\foto\JavoříčkoV-1\scale25x4.11..jpg
A9: Specimen no. | B9: 1
A11: Input file: | B11: C:\Us | C11: ers\Eva\Documents\DIPLOMKA\foto\JavoříčkoV-1\JavV-1Myo1mdD.jpg
A13: Specimen no. | B13: 1
A15: Length = M1= | B15: 0.01 | C15: mm
A17: Length = M1= | B17: 0.01 | C17: mm
A19: Length = M1= | B19: 0.01 | C19: mm
A21: Length = M1= | B21: 0.01 | C21: mm
A23: Length = M1= | B23: 0.01 | C23: mm
A25: Length = M1= | B25: 3.28 | C25: mm
A27: Length = M1= | B27: 2.47 | C27: mm
A29: Length = M1= | B29: 2.97 | C29: mm
A31: Length = M1= | B31: 0.01 | C31: mm
A33: Length = M1= | B33: 1.4 | C33: mm
A35: Input file: | B35: C:\Us | C35: ers\Eva\Documents\DIPLOMKA\foto\JavoříčkoV-1\JavV-1Myo1mdC25x.jpg
A37: Specimen no. | B37: 1
A39: Length = M1= | B39: 0.01 | C39: mm
A41: Length = M1= | B41: 0.92 | C41: mm
A43: Length = M1= | B43: 1.66 | C43: mm
A45: Length = M1= | B45: 1.64 | C45: mm
A47: Input file: | B47: C:\Us | C47: ers\Eva\Documents\DIPLOMKA\foto\JavoříčkoV-1\JavV-1Myo3mdD.jpg
A49: Specimen no. | B49: 1
A51: Length = M1= | B51: 0.01 | C51: mm
A53: Length = M1= | B53: 0.01 | C53: mm
A55: Length = M1= | B55: 0.01 | C55: mm
A57: Length = M1= | B57: 0.01 | C57: mm
A59: Length = M1= | B59: 0.01 | C59: mm
A61: Length = M1= | B61: 0.01 | C61: mm
A63: Length = M1= | B63: 0.01 | C63: mm
A65: Length = M1= | B65: 0.01 | C65: mm
A67: Length = M1= | B67: 0.01 | C67: mm
A69: Length = M1= | B69: 1.3 | C69: mm
A71: Input file: | B71: C:\Us | C71: ers\Eva\Documents\DIPLOMKA\foto\JavoříčkoV-1\JavV-1Myo3mdC25x.jpg
A73: Specimen no. | B73: 1
A75: Length = M1= | B75: 2.74 | C75: mm
A77: Length = M1= | B77: 1.01 | C77: mm
A79: Length = M1= | B79: 0.01 | C79: mm
...

Sheet poměry.md
A1: lokalita | B1: vrstva | C1: rod | D1: sp. | E1: číslo | F1: popis | G1: cm3/Lmd | H1: cm3/im3 | I1: CrH/Lmd | J1: CrH/cm3 | K1: CrH/cp4 | L1: cp4/m1m3 | M1: p2+p3/cp4 | N1: p2+p3/p4L | O1: cL/p4L | P1: p2L/p3L | Q1: cW/cL | R1: p4W/p4L | S1: m3L/m1L | T1: m2L/m1L | U1: p4L/m1L | V1: symfW/symfL | W1: p4W/m1tlW | X1: m3tlW/m3trW | Y1: cW/p4W | Z1: cp4/cm3
A2: Javoříčko | B2: V/1 | C2: Myotis | D2: emarginatus | E2: 1 | F2: md:i3-m2 | M2: ='V1'!P2/'V1'!L2 -> 0.42682927 | N2: ='V1'!P2/'V1'!AJ2 -> 1.3207547 | O2: ='V1'!AD2/'V1'!AJ2 -> 1 | P2: ='V1'!AF2/'V1'!AH2 -> 1.2575758 | Q2: ='V1'!AE2/'V1'!AD2 -> 0.76415094 | R2: ='V1'!AL2/'V1'!AJ2 -> 0.66981132 | U2: ='V1'!AJ2/'V1'!AM2 -> 0.67515924 | W2: ='V1'!AL2/'V1'!AP2 -> 0.76344086 | Y2: ='V1'!AE2/'V1'!AL2 -> 1.1408451
A3: Javoříčko | B3: V/1 | C3: Myotis | D3: emarginatus | E3: 2 | F3: md:(c-p3)p4-m3 | L3: ='V1'!L3/'V1'!K3 -> 0.68925234 | M3: ='V1'!P3/'V1'!L3 -> 0.37966102 | N3: ='V1'!P3/'V1'!AJ3 -> 1.1313131 | O3: ='V1'!AD3/'V1'!AJ3 -> 0.6969697 | P3: ='V1'!AF3/'V1'!AH3 -> 1.0392157 | Q3: ='V1'!AE3/'V1'!AD3 -> 0.88405797 | R3: ='V1'!AL3/'V1'!AJ3 -> 0.67676768 | S3: ='V1'!AU3/'V1'!AM3 -> 0.91503268 | T3: ='V1'!AQ3/'V1'!AM3 -> 0.98039216 | U3: ='V1'!AJ3/'V1'!AM3 -> 0.64705882 | W3: ='V1'!AL3/'V1'!AP3 -> 0.70526316 | X3: ='V1'!AX3/'V1'!AW3 -> 0.84705882 | Y3: ='V1'!AE3/'V1'!AL3 -> 0.91044776 | Z3: ='V1'!L3/'V1'!I3 -> 0.41963016
A4: Javoříčko | B4: V/1 | C4: Myotis | D4: emarginatus | E4: 3 | F4: md:i1-p2(p3) | P4: ='V1'!AF4/'V1'!AH4 -> 1.787234 | Q4: ='V1'!AE4/'V1'!AD4 -> 0.81081081 | V4: ='V1'!R4/'V1'!Q4 -> 0.36861314
F5: počet | L5: =COUNT(L2:L4) -> 1 | M5: =COUNT(M2:M4) -> 2 | N5: =COUNT(N2:N4) -> 2 | O5: =COUNT(O2:O4) -> 2 | P5: =COUNT(P2:P4) -> 3 | Q5: =COUNT(Q2:Q4) -> 3 | R5: =COUNT(R2:R4) -> 2 | S5: =COUNT(S2:S4) -> 1 | ... Z5: =COUNT(Z2:Z4) -> 1
F6: průměr | L6: =AVERAGE(L2:L4) -> 0.68925234 | M6: =AVERAGE(M2:M4) -> 0.40324514 | N6: =AVERAGE(N2:N4) -> 1.2260339 | O6: =AVERAGE(O2:O4) -> 0.84848485 | P6: =AVERAGE(P2:P4) -> 1.3613418 | Q6: =AVERAGE(Q2:Q4) -> 0.81967324 | R6: =AVERAGE(R2:R4) -> 0.6732895 | S6: =AVERAGE(S2:S4) -> 0.91503268 | ... Z6: =AVERAGE(Z2:Z4) -> 0.41963016
F7: směr.odchylka | M7: =STDEVP(M2:M4) -> 0.023584126 | N7: =STDEVP(N2:N4) -> 0.094720793 | O7: =STDEVP(O2:O4) -> 0.15151515 | P7: =STDEVP(P2:P4) -> 0.31406837 | Q7: =STDEVP(Q2:Q4) -> 0.049351331 | R7: =STDEVP(R2:R4) -> 0.003478178 | U7: =STDEVP(U2:U4) -> 0.014050206 | W7: =STDEVP(W2:W4) -> 0.029088851 | Y7: =STDEVP(Y2:Y4) -> 0.11519865
F8: min | L8: =MIN(L2:L4) -> 0.68925234 | M8: =MIN(M2:M4) -> 0.37966102 | N8: =MIN(N2:N4) -> 1.1313131 | O8: =MIN(O2:O4) -> 0.6969697 | P8: =MIN(P2:P4) -> 1.0392157 | Q8: =MIN(Q2:Q4) -> 0.76415094 | R8: =MIN(R2:R4) -> 0.66981132 | S8: =MIN(S2:S4) -> 0.91503268 | ... Z8: =MIN(Z2:Z4) -> 0.41963016
F9: max | L9: =MAX(L2:L4) -> 0.68925234 | M9: =MAX(M2:M4) -> 0.42682927 | N9: =MAX(N2:N4) -> 1.3207547 | O9: =MAX(O2:O4) -> 1 | P9: =MAX(P2:P4) -> 1.787234 | Q9: =MAX(Q2:Q4) -> 0.88405797 | R9: =MAX(R2:R4) -> 0.67676768 | S9: =MAX(S2:S4) -> 0.91503268 | ... Z9: =MAX(Z2:Z4) -> 0.41963016
F10: šikmost | P10: =SKEW(P2:P4) -> 1.1255999 | Q10: =SKEW(Q2:Q4) -> 0.64562774
F11: špičatost | P11: =SKEW(P2:P4) -> 1.1255999 | Q11: =SKEW(Q2:Q4) -> 0.64562774
F12: rozptyl | M12: =VARP(M2:M4) -> 0.00055621098 | N12: =VARP(N2:N4) -> 0.0089720286 | O12: =VARP(O2:O4) -> 0.022956841 | P12: =VARP(P2:P4) -> 0.098638942 | Q12: =VARP(Q2:Q4) -> 0.0024355539 | R12: =VARP(R2:R4) -> 1.2097722e-05 | U12: =VARP(U2:U4) -> 0.00019740829 | W12: =VARP(W2:W4) -> 0.00084616126 | Y12: =VARP(Y2:Y4) -> 0.01327073
A14: Javoříčko | B14: V/f3 | C14: Myotis | D14: emarginatus | E14: 1 | F14: md:(i1-p3)p4-m3 | H14: ='Vf3'!I2/'Vf3'!H2 -> 0.87580026 | L14: ='Vf3'!L2/'Vf3'!K2 -> 0.71568627 | M14: ='Vf3'!P2/'Vf3'!L2 -> 0.34589041 | N14: ='Vf3'!P2/'Vf3'!AJ2 -> 1.0412371 | O14: ='Vf3'!AD2/'Vf3'!AJ2 -> 0.8556701 | P14: ='Vf3'!AF2/'Vf3'!AH2 -> 1.1111111 | Q14: ='Vf3'!AE2/'Vf3'!AD2 -> 0.59036145 | R14: ='Vf3'!AL2/'Vf3'!AJ2 -> 0.72164948 | S14: ='Vf3'!AU2/'Vf3'!AM2 -> 0.92567568 | T14: ='Vf3'!AQ2/'Vf3'!AM2 -> 0.96621622 | U14: ='Vf3'!AJ2/'Vf3'!AM2 -> 0.65540541 | V14: ='Vf3'!R2/'Vf3'!Q2 -> 0.34982332 | W14: ='Vf3'!AL2/'Vf3'!AP2 -> 0.72164948 | X14: ='Vf3'!AX2/'Vf3'!AW2 -> 0.86206897 | Y14: ='Vf3'!AE2/'Vf3'!AL2 -> 0.7 | Z14: ='Vf3'!L2/'Vf3'!I2 -> 0.42690058
A15: Javoříčko | B15: V/f3 | C15: Myotis | D15: emarginatus | E15: 2 | F15: md:('c)p2-m2 | M15: ='Vf3'!P3/'Vf3'!L3 -> 0.48208469 | N15: ='Vf3'!P3/'Vf3'!AJ3 -> 1.5913978 | O15: ='Vf3'!AD3/'Vf3'!AJ3 -> 0.78494624 | P15: ='Vf3'!AF3/'Vf3'!AH3 -> 1.1470588 | Q15: ='Vf3'!AE3/'Vf3'!AD3 -> 0.54794521 | R15: ='Vf3'!AL3/'Vf3'!AJ3 -> 0.66666667 | Y15: ='Vf3'!AE3/'Vf3'!AL3 -> 0.64516129
A16: Javoříčko | B16: V/f3 | C16: Myotis | D16: emarginatus | E16: 3 | F16: md:(i2-p3)p4-m1(m2-m3) | L16: ='Vf3'!L4/'Vf3'!K4 -> 0.66853933 | M16: ='Vf3'!P4/'Vf3'!L4 -> 0.38235294 | N16: ='Vf3'!P4/'Vf3'!AJ4 -> 1.2816901 | O16: ='Vf3'!AD4/'Vf3'!AJ4 -> 0.69014085 | P16: ='Vf3'!AF4/'Vf3'!AH4 -> 0.95454545 | Q16: ='Vf3'!AE4/'Vf3'!AD4 -> 0.75510204 | R16: ='Vf3'!AL4/'Vf3'!AJ4 -> 0.84507042 | U16: ='Vf3'!AJ4/'Vf3'!AM4 -> 0.5503876 | W16: ='Vf3'!AL4/'Vf3'!AP4 -> 0.73170732 | Y16: ='Vf3'!AE4/'Vf3'!AL4 -> 0.61666667 | Z16: ='Vf3'!L4/'Vf3'!I4 -> 0.40823328
A17: Javoříčko | B17: V/f3 | C17: Myotis | D17: emarginatus | E17: 4 | F17: md:(i1-i3)c(p2)p3-m1 | M17: ='Vf3'!P5/'Vf3'!L5 -> 0.38518519 | N17: ='Vf3'!P5/'Vf3'!AJ5 -> 1.1304348 | O17: ='Vf3'!AD5/'Vf3'!AJ5 -> 0.98913043 | P17: ='Vf3'!AF5/'Vf3'!AH5 -> 0.68421053 | Q17: ='Vf3'!AE5/'Vf3'!AD5 -> 0.82417582 | R17: ='Vf3'!AL5/'Vf3'!AJ5 -> 0.70652174 | U17: ='Vf3'!AJ5/'Vf3'!AM5 -> 0.6618705 | W17: ='Vf3'!AL5/'Vf3'!AP5 -> 0.73033708 | Y17: ='Vf3'!AE5/'Vf3'!AL5 -> 1.1538462
A18: Javoříčko | B18: V/f3 | C18: Myotis | D18: emarginatus | E18: 5 | F18: md:(i1-p2)p3-m3 | H18: ='Vf3'!I6/'Vf3'!H6 -> 0.86114495 | L18: ='Vf3'!L6/'Vf3'!K6 -> 0.64318182 | M18: ='Vf3'!P6/'Vf3'!L6 -> 0.37809187 | N18: ='Vf3'!P6/'Vf3'!AJ6 -> 1.1758242 | O18: ='Vf3'!AD6/'Vf3'!AJ6 -> 0.81318681 | P18: ='Vf3'!AF6/'Vf3'!AH6 -> 0.87096774 | Q18: ='Vf3'!AE6/'Vf3'!AD6 -> 0.71621622 | R18: ='Vf3'!AL6/'Vf3'!AJ6 -> 0.89010989 | S18: ='Vf3'!AU6/'Vf3'!AM6 -> 0.94736842 | T18: ='Vf3'!AQ6/'Vf3'!AM6 -> 1.0394737 | U18: ='Vf3'!AJ6/'Vf3'!AM6 -> 0.59868421 | V18: ='Vf3'!R6/'Vf3'!Q6 -> 0.39501779 | W18: ='Vf3'!AL6/'Vf3'!AP6 -> 0.72972973 | X18: ='Vf3'!AX6/'Vf3'!AW6 -> 0.81443299 | Y18: ='Vf3'!AE6/'Vf3'!AL6 -> 0.65432099 | Z18: ='Vf3'!L6/'Vf3'!I6 -> 0.40028289
A19: Javoříčko | B19: V/f3 | C19: Myotis | D19: emarginatus | E19: 6 | F19: md:(i1-i3)c-m1 | M19: ='Vf3'!P7/'Vf3'!L7 -> 0.46056782 | N19: ='Vf3'!P7/'Vf3'!AJ7 -> 1.5208333 | O19: ='Vf3'!AD7/'Vf3'!AJ7 -> 0.96875 | P19: ='Vf3'!AF7/'Vf3'!AH7 -> 1.2205882 | Q19: ='Vf3'!AE7/'Vf3'!AD7 -> 0.94623656 | R19: ='Vf3'!AL7/'Vf3'!AJ7 -> 0.77083333 | U19: ='Vf3'!AJ7/'Vf3'!AM7 -> 0.63576159 | W19: ='Vf3'!AL7/'Vf3'!AP7 -> 0.77894737 | Y19: ='Vf3'!AE7/'Vf3'!AL7 -> 1.1891892
A20: Javoříčko | B20: V/f3 | C20: Myotis | D20: emarginatus | E20: 7 | F20: md:p4-m2 | R20: ='Vf3'!AL8/'Vf3'!AJ8 -> 0.70833333 | T20: ='Vf3'!AQ8/'Vf3'!AM8 -> 0.98 | U20: ='Vf3'!AJ8/'Vf3'!AM8 -> 0.64 | W20: ='Vf3'!AL8/'Vf3'!AP8 -> 0.74725275
A21: Javoříčko | B21: V/f3 | C21: Myotis | D21: emarginatus | E21: 8 | F21: m2
A22: Javoříčko | B22: V/f3 | C22: Myotis | D22: emarginatus | E22: 9 | F22: m3 | X22: ='Vf3'!AX10/'Vf3'!AW10 -> 0.83823529
F23: počet | H23: =COUNT(H14:H22) -> 2 | L23: =COUNT(L14:L22) -> 3 | M23: =COUNT(M14:M22) -> 6 | N23: =COUNT(N14:N22) -> 6 | O23: =COUNT(O14:O22) -> 6 | P23: =COUNT(P14:P22) -> 6 | Q23: =COUNT(Q14:Q22) -> 6 | R23: =COUNT(R14:R22) -> 7 | S23: =COUNT(S14:S22) -> 2 | ... Z23: =COUNT(Z14:Z22) -> 3
F24: průměr | H24: =AVERAGE(H14:H22) -> 0.8684726 | L24: =AVERAGE(L14:L22) -> 0.67580247 | M24: =AVERAGE(M14:M22) -> 0.40569549 | N24: =AVERAGE(N14:N22) -> 1.2902362 | O24: =AVERAGE(O14:O22) -> 0.85030407 | P24: =AVERAGE(P14:P22) -> 0.99808032 | Q24: =AVERAGE(Q14:Q22) -> 0.73000622 | R24: =AVERAGE(R14:R22) -> 0.75845498 | S24: =AVERAGE(S14:S22) -> 0.93652205 | ... Z24: =AVERAGE(Z14:Z22) -> 0.41180558
F25: směr.odchylka | H25: =STDEVP(H14:H22) -> 0.0073276554 | L25: =STDEVP(L14:L22) -> 0.030042071 | M25: =STDEVP(M14:M22) -> 0.048563425 | N25: =STDEVP(N14:N22) -> 0.20189666 | O25: =STDEVP(O14:O22) -> 0.10378872 | P25: =STDEVP(P14:P22) -> 0.18305166 | Q25: =STDEVP(Q14:Q22) -> 0.1348396 | R25: =STDEVP(R14:R22) -> 0.075571587 | S25: =STDEVP(S14:S22) -> 0.010846373 | ... Z25: =STDEVP(Z14:Z22) -> 0.011156359
F26: min | H26: =MIN(H14:H22) -> 0.86114495 | L26: =MIN(L14:L22) -> 0.64318182 | M26: =MIN(M14:M22) -> 0.34589041 | N26: =MIN(N14:N22) -> 1.0412371 | O26: =MIN(O14:O22) -> 0.69014085 | P26: =MIN(P14:P22) -> 0.68421053 | Q26: =MIN(Q14:Q22) -> 0.54794521 | R26: =MIN(R14:R22) -> 0.66666667 | S26: =MIN(S14:S22) -> 0.92567568 | ... Z26: =MIN(Z14:Z22) -> 0.40028289
F27: max | H27: =MAX(H14:H22) -> 0.87580026 | L27: =MAX(L14:L22) -> 0.71568627 | M27: =MAX(M14:M22) -> 0.48208469 | N27: =MAX(N14:N22) -> 1.5913978 | O27: =MAX(O14:O22) -> 0.98913043 | P27: =MAX(P14:P22) -> 1.2205882 | Q27: =MAX(Q14:Q22) -> 0.94623656 | R27: =MAX(R14:R22) -> 0.89010989 | S27: =MAX(S14:S22) -> 0.94736842 | ... Z27: =MAX(Z14:Z22) -> 0.42690058
F28: šikmost | L28: =SKEW(L14:L22) -> 0.85368979 | M28: =SKEW(M14:M22) -> 0.70676241 | N28: =SKEW(N14:N22) -> 0.51467518 | O28: =SKEW(O14:O22) -> -0.020702284 | P28: =SKEW(P14:P22) -> -0.64331746 | Q28: =SKEW(Q14:Q22) -> 0.20483649 | R28: =SKEW(R14:R22) -> 0.791341 | T28: =SKEW(T14:T22) -> 1.4910012 | U28: =SKEW(U14:U22) -> -1.266775 | W28: =SKEW(W14:W22) -> 1.6921918 | X28: =SKEW(X14:X22) -> 0.0019754165 | Y28: =SKEW(Y14:Y22) -> 0.93334669 | Z28: =SKEW(Z14:Z22) -> 1.0960849
F29: špičatost | M29: =KURT(M14:M22) -> -1.2715274 | N29: =KURT(N14:N22) -> -1.650531 | O29: =KURT(O14:O22) -> -1.0283311 | P29: =KURT(P14:P22) -> -0.58837649 | Q29: =KURT(Q14:Q22) -> -0.74428939 | R29: =KURT(R14:R22) -> -0.74174993 | U29: =KURT(U14:U22) -> 0.96927865 | W29: =KURT(W14:W22) -> 2.8396098 | Y29: =KURT(Y14:Y22) -> -1.8339451
F30: rozptyl | H30: =VARP(H14:H22) -> 5.3694534e-05 | L30: =VARP(L14:L22) -> 0.00090252602 | M30: =VARP(M14:M22) -> 0.0023584062 | N30: =VARP(N14:N22) -> 0.04076226 | O30: =VARP(O14:O22) -> 0.010772098 | P30: =VARP(P14:P22) -> 0.033507911 | Q30: =VARP(Q14:Q22) -> 0.018181719 | R30: =VARP(R14:R22) -> 0.0057110648 | S30: =VARP(S14:S22) -> 0.0001176438 | ... Z30: =VARP(Z14:Z22) -> 0.00012446434
